BEGIN:VCALENDAR
PRODID:NingEventWidget-v1
VERSION:2.0
METHOD:PUBLISH
BEGIN:VTIMEZONE
TZID:Europe/London
X-LIC-LOCATION:Europe/London
BEGIN:DAYLIGHT
TZOFFSETFROM:+0000
TZOFFSETTO:+0100
TZNAME:BST
DTSTART:19700329T010000
RRULE:FREQ=YEARLY;BYMONTH=3;BYDAY=-1SU
END:DAYLIGHT
BEGIN:STANDARD
TZOFFSETFROM:+0100
TZOFFSETTO:+0000
TZNAME:GMT
DTSTART:19701025T020000
RRULE:FREQ=YEARLY;BYMONTH=10;BYDAY=-1SU
END:STANDARD
END:VTIMEZONE
BEGIN:VEVENT
UID:6278630:Event:88227
DTSTAMP:20260422T035131Z
SUMMARY:Carol Singing in Finsbury Gardens
DESCRIPTION:Saturday, 20th December, is the Annual get-together to wel
 come the Festive Season by singing some carols and Christmas songs wit
 h friends and neighbours. \nA torch or lantern would be useful. Please
  bring mulled wine and mince pies to share.\nHave a look at the video 
 of the carol singing from 2010 event ... when the snow lay round about
  ... deep and crisp and even!\n\n\n\nFor more information visit https:
 //bowesandbounds.org/events/carol-singing-in-finsbury-gardens-2
DTSTART;TZID=Europe/London:20141220T183000
DTEND;TZID=Europe/London:20141220T193000
CATEGORIES:"carol singing", christmas
LOCATION:Finsbury Gardens
WEBSITE:http://maps.google.co.uk/maps?ll=51.603692,-0.116504&spn=0.003
 425,0.006899&t=h&z=17&vpsrc=0&lci=com.panoramio.all
URL:http://maps.google.co.uk/maps?ll=51.603692,-0.116504&spn=0.003425,
 0.006899&t=h&z=17&vpsrc=0&lci=com.panoramio.all
CONTACT:
ORGANIZER:Administrator
ATTACH;FMTTYPE="image/jpeg":http://storage.ning.com/topology/rest/1.0/
 file/get/2287227764?profile=original
ATTENDEE;ROLE=REQ-PARTICIPANT;PARTSTAT=ACCEPTED;RSVP=TRUE;CN="Richard 
 McKeever":https://bowesandbounds.org/profile/3hwxkqhdde8gc
END:VEVENT
END:VCALENDAR
