BEGIN:VCALENDAR
PRODID:NingEventWidget-v1
VERSION:2.0
METHOD:PUBLISH
BEGIN:VTIMEZONE
TZID:Europe/London
X-LIC-LOCATION:Europe/London
BEGIN:DAYLIGHT
TZOFFSETFROM:+0000
TZOFFSETTO:+0100
TZNAME:BST
DTSTART:19700329T010000
RRULE:FREQ=YEARLY;BYMONTH=3;BYDAY=-1SU
END:DAYLIGHT
BEGIN:STANDARD
TZOFFSETFROM:+0100
TZOFFSETTO:+0000
TZNAME:GMT
DTSTART:19701025T020000
RRULE:FREQ=YEARLY;BYMONTH=10;BYDAY=-1SU
END:STANDARD
END:VTIMEZONE
BEGIN:VEVENT
UID:6278630:Event:88112
DTSTAMP:20260422T022040Z
SUMMARY:Carol Singing
DESCRIPTION:Please come and enjoy some seasonal fun with\nCarol singin
 g led by Alexandra Chorus\n\nFor more information visit https://bowesa
 ndbounds.org/events/carol-singing
DTSTART;TZID=Europe/London:20141220T150000
DTEND;TZID=Europe/London:20141220T163000
CATEGORIES:alexandra, park, library, event
LOCATION:Alexandra park Library
WEBSITE:
URL:
CONTACT:+447979816533
ORGANIZER;CN="soulla katsiani":https://bowesandbounds.org/profile/soul
 lakatsiani
ATTACH;FMTTYPE="image/jpeg":http://storage.ning.com/topology/rest/1.0/
 file/get/2287275371?profile=original
ATTENDEE;ROLE=REQ-PARTICIPANT;PARTSTAT=ACCEPTED;RSVP=TRUE;CN="soulla k
 atsiani":https://bowesandbounds.org/profile/soullakatsiani
END:VEVENT
END:VCALENDAR
