BEGIN:VCALENDAR
PRODID:NingEventWidget-v1
VERSION:2.0
METHOD:PUBLISH
BEGIN:VTIMEZONE
TZID:Europe/London
X-LIC-LOCATION:Europe/London
BEGIN:DAYLIGHT
TZOFFSETFROM:+0000
TZOFFSETTO:+0100
TZNAME:BST
DTSTART:19700329T010000
RRULE:FREQ=YEARLY;BYMONTH=3;BYDAY=-1SU
END:DAYLIGHT
BEGIN:STANDARD
TZOFFSETFROM:+0100
TZOFFSETTO:+0000
TZNAME:GMT
DTSTART:19701025T020000
RRULE:FREQ=YEARLY;BYMONTH=10;BYDAY=-1SU
END:STANDARD
END:VTIMEZONE
BEGIN:VEVENT
UID:6278630:Event:240387
DTSTAMP:20260421T141241Z
SUMMARY:CC’s Nursery
DESCRIPTION:CC’s Nursery is having a Fun activity and open day .\nCo
 me along and meet all staff ,existing parents and new parents .\n2nd J
 uly 10am until 1pm \n\nCC’s Nursery \nst Michael at bowes \nPalm
 erston road\nN22 8qx \n02088813339\n\n\nFor more information visit ht
 tps://bowesandbounds.org/events/cc-s-nursery-3
DTSTART;TZID=Europe/London:20220702T100000
DTEND;TZID=Europe/London:20220702T130000
CATEGORIES:open, day
LOCATION:CC’s Nursery
WEBSITE:http://www.ccsnursery.co.uk/
URL:http://www.ccsnursery.co.uk/
CONTACT:02088813339
ORGANIZER:CC's Nursery
ATTACH;FMTTYPE="image/jpeg":https://storage.ning.com/topology/rest/1.0
 /file/get/10550131663?profile=original
ATTENDEE;ROLE=REQ-PARTICIPANT;PARTSTAT=ACCEPTED;RSVP=TRUE;CN="CC's Nur
 sery ":https://bowesandbounds.org/profile/CCsNursery
END:VEVENT
END:VCALENDAR
