BEGIN:VCALENDAR
PRODID:NingEventWidget-v1
VERSION:2.0
METHOD:PUBLISH
BEGIN:VTIMEZONE
TZID:Europe/London
X-LIC-LOCATION:Europe/London
BEGIN:DAYLIGHT
TZOFFSETFROM:+0000
TZOFFSETTO:+0100
TZNAME:BST
DTSTART:19700329T010000
RRULE:FREQ=YEARLY;BYMONTH=3;BYDAY=-1SU
END:DAYLIGHT
BEGIN:STANDARD
TZOFFSETFROM:+0100
TZOFFSETTO:+0000
TZNAME:GMT
DTSTART:19701025T020000
RRULE:FREQ=YEARLY;BYMONTH=10;BYDAY=-1SU
END:STANDARD
END:VTIMEZONE
BEGIN:VEVENT
UID:6278630:Event:86084
DTSTAMP:20260422T050218Z
SUMMARY:CC's Nursery
DESCRIPTION:st micheal at bowes ,Palmerston road, N22 8QX\nT-020881333
 9\nE-ccsnursery@hotmail.co.uk\nw-www.ccsnursery.co.uk\nOpen day and Ac
 tivity Day\nSaturday 29th November 2014\nfrom 10am-2pm\nBouncy castle,
  face painting, meet and greet the staff, meet existing parents and ch
 ildren, food abd drink, music and games, view the nursery.\nProviding 
 childcare from 3months to 5 years.\nwe are open 5 days a week 8am to 6
 pm\n48 weeks of the year.\nfull day care-£50 (8am-6Pm)\nhalf day care
  £30 (8am-1pm) or (1pm-6pm)\nofsted registerd\n\nFor more information
  visit https://bowesandbounds.org/events/cc-s-nursery
DTSTART;TZID=Europe/London:20141129T100000
DTEND;TZID=Europe/London:20141129T140000
CATEGORIES:nursery, open, day
LOCATION:north london- palmers green/woodgreen
WEBSITE:http://www.ccsnursery.co.uk
URL:http://www.ccsnursery.co.uk
CONTACT:02088813339
ORGANIZER:CC's Nursery
ATTACH;FMTTYPE="image/jpeg":http://storage.ning.com/topology/rest/1.0/
 file/get/2287273460?profile=original
ATTENDEE;ROLE=REQ-PARTICIPANT;PARTSTAT=ACCEPTED;RSVP=TRUE;CN="CC's Nur
 sery ":https://bowesandbounds.org/profile/CCsNursery
END:VEVENT
END:VCALENDAR
