BEGIN:VCALENDAR
PRODID:NingEventWidget-v1
VERSION:2.0
METHOD:PUBLISH
BEGIN:VTIMEZONE
TZID:Europe/London
X-LIC-LOCATION:Europe/London
BEGIN:DAYLIGHT
TZOFFSETFROM:+0000
TZOFFSETTO:+0100
TZNAME:BST
DTSTART:19700329T010000
RRULE:FREQ=YEARLY;BYMONTH=3;BYDAY=-1SU
END:DAYLIGHT
BEGIN:STANDARD
TZOFFSETFROM:+0100
TZOFFSETTO:+0000
TZNAME:GMT
DTSTART:19701025T020000
RRULE:FREQ=YEARLY;BYMONTH=10;BYDAY=-1SU
END:STANDARD
END:VTIMEZONE
BEGIN:VEVENT
UID:6278630:Event:140298
DTSTAMP:20260423T004244Z
SUMMARY:Ceilidh Night
DESCRIPTION:St Martin of Porres school is hosting its first ever Ceili
 dh Night!\nAlong with all that Celtic dancing, there’ll be a bar and
  a light buffet – plus a FREE drink if you buy your ticket before Mo
 nday 9th March.\nAnd if you're feeling lucky, there's a raffle on the 
 night to win an amazing hamper!\nTickets are available here. The addre
 ss is Blake Road, N11 2AF.\n\nFor more information visit https://bowes
 andbounds.org/events/ceilidh-night
DTSTART;TZID=Europe/London:20200313T190000
DTEND;TZID=Europe/London:20200313T223000
CATEGORIES:ceilidh, live, music, dancing, food, and, drink
LOCATION:St Martin of Porres school
WEBSITE:https://events.classlist.com/#/events/view/666960693
URL:https://events.classlist.com/#/events/view/666960693
CONTACT:
ORGANIZER;CN="Penny Woods":https://bowesandbounds.org/profile/PennyWoo
 ds
ATTACH;FMTTYPE="image/jpeg":https://storage.ning.com/topology/rest/1.0
 /file/get/3987797181?profile=original
ATTENDEE;ROLE=REQ-PARTICIPANT;PARTSTAT=ACCEPTED;RSVP=TRUE;CN="Penny Wo
 ods":https://bowesandbounds.org/profile/PennyWoods
END:VEVENT
END:VCALENDAR
