BEGIN:VCALENDAR
PRODID:NingEventWidget-v1
VERSION:2.0
METHOD:PUBLISH
BEGIN:VTIMEZONE
TZID:Europe/London
X-LIC-LOCATION:Europe/London
BEGIN:DAYLIGHT
TZOFFSETFROM:+0000
TZOFFSETTO:+0100
TZNAME:BST
DTSTART:19700329T010000
RRULE:FREQ=YEARLY;BYMONTH=3;BYDAY=-1SU
END:DAYLIGHT
BEGIN:STANDARD
TZOFFSETFROM:+0100
TZOFFSETTO:+0000
TZNAME:GMT
DTSTART:19701025T020000
RRULE:FREQ=YEARLY;BYMONTH=10;BYDAY=-1SU
END:STANDARD
END:VTIMEZONE
BEGIN:VEVENT
UID:6278630:Event:104258
DTSTAMP:20260419T205428Z
SUMMARY:Charity bicycle auction
DESCRIPTION:Friday 27th November 2015 7pm - 9pm\nCypriot Community Cen
 tre Earlham Grove Wood Green N22 5HJ\nBicycles for all ages.  Recondit
 ioned and serviced second-hand bicycles supplied by local charity ‘B
 ikes for Good Causes’ selling bicycles by auction to raise cash for 
 their charity ‘Action for Kids’.\n\nBicycle security marking by Me
 tropolitan Police Safer Transport officers\nCakes and soft drinks.\n\n
 Come grab a bargain bicycle and help raise cash for a great cause!\n\n
 For more information visit https://bowesandbounds.org/events/charity-b
 icycle-auction
DTSTART;TZID=Europe/London:20151127T190000
DTEND;TZID=Europe/London:20151127T210000
CATEGORIES:charity, auction
LOCATION:Cypriot Community Centre
WEBSITE:
URL:
CONTACT:
ORGANIZER;CN="Richard McKeever":https://bowesandbounds.org/profile/3hw
 xkqhdde8gc
ATTACH;FMTTYPE="image/jpeg":http://storage.ning.com/topology/rest/1.0/
 file/get/2287300561?profile=original
ATTENDEE;ROLE=REQ-PARTICIPANT;PARTSTAT=ACCEPTED;RSVP=TRUE;CN="Richard 
 McKeever":https://bowesandbounds.org/profile/3hwxkqhdde8gc
END:VEVENT
END:VCALENDAR
