BEGIN:VCALENDAR
PRODID:NingEventWidget-v1
VERSION:2.0
METHOD:PUBLISH
BEGIN:VTIMEZONE
TZID:Europe/London
X-LIC-LOCATION:Europe/London
BEGIN:DAYLIGHT
TZOFFSETFROM:+0000
TZOFFSETTO:+0100
TZNAME:BST
DTSTART:19700329T010000
RRULE:FREQ=YEARLY;BYMONTH=3;BYDAY=-1SU
END:DAYLIGHT
BEGIN:STANDARD
TZOFFSETFROM:+0100
TZOFFSETTO:+0000
TZNAME:GMT
DTSTART:19701025T020000
RRULE:FREQ=YEARLY;BYMONTH=10;BYDAY=-1SU
END:STANDARD
END:VTIMEZONE
BEGIN:VEVENT
UID:6278630:Event:122847
DTSTAMP:20260424T201612Z
SUMMARY:Charlie Wood at Karamel
DESCRIPTION:Internationally renowned Jazz artist Charlie Wood is royal
 ty amongst the genre, starting at a young age as guitarist for legenda
 ry blues musician Albert King. Wood also holds a Brass Note award on B
 eale Street, the musical equivalent of a star of fame along Hollywood 
 Boulevard, Charlie will be gracing the stages of KARAMEL at Wood Green
 .\nCharlie Wood has established himself amongst the Jazz community and
  his musical ability is unprecedented. He’s been compared to being a
  similar sensation to “Costello”, “Dylan” and “Springsteen.
 \nSeveral years ago, Charlie released his first UK release an album,
  titled “New Suvieineers” and the tone of his music reflects his M
 emphis raised upbringing and holds a nostalgic enamor one can’t help
  but tap their feet to.\nThis is a rare and exciting opportunity to wa
 tch Charlie play from the comfort of a homely and nieche venue. \n“
 Charlie Wood is that rarest of combinations, a singer who’s as soulf
 ul as his songwriting is smart. He’s also a wicked piano and B3 play
 er. He does it all, except ironing.” – Harry Shearer£5 EARLYBIRD 
 available www.karamel.london£8 OTD TICKETS\n\nFor more information v
 isit https://bowesandbounds.org/events/charlie-wood-at-karamel
DTSTART;TZID=Europe/London:20170621T190000
DTEND;TZID=Europe/London:20170621T230000
CATEGORIES:"'jazz'", "'jazz", "music'", at, "karamel'", "'karamel'", "
 'karamel", "jazz'", "n22'", "'n22", "'music", "'music'", in, wood, "gr
 een'"
LOCATION:Karamel
WEBSITE:http://www.karamel.london
URL:http://www.karamel.london
CONTACT:0208 829 8989
ORGANIZER;CN="Events at Karamel":https://bowesandbounds.org/profile/Ph
 ilSherman
ATTACH;FMTTYPE="image/jpeg":http://storage.ning.com/topology/rest/1.0/
 file/get/2287318803?profile=original
ATTENDEE;ROLE=REQ-PARTICIPANT;PARTSTAT=ACCEPTED;RSVP=TRUE;CN="Events a
 t Karamel":https://bowesandbounds.org/profile/PhilSherman
END:VEVENT
END:VCALENDAR
