BEGIN:VCALENDAR
PRODID:NingEventWidget-v1
VERSION:2.0
METHOD:PUBLISH
BEGIN:VTIMEZONE
TZID:Europe/London
X-LIC-LOCATION:Europe/London
BEGIN:DAYLIGHT
TZOFFSETFROM:+0000
TZOFFSETTO:+0100
TZNAME:BST
DTSTART:19700329T010000
RRULE:FREQ=YEARLY;BYMONTH=3;BYDAY=-1SU
END:DAYLIGHT
BEGIN:STANDARD
TZOFFSETFROM:+0100
TZOFFSETTO:+0000
TZNAME:GMT
DTSTART:19701025T020000
RRULE:FREQ=YEARLY;BYMONTH=10;BYDAY=-1SU
END:STANDARD
END:VTIMEZONE
BEGIN:VEVENT
UID:6278630:Event:242574
DTSTAMP:20260421T025551Z
SUMMARY:Charlotte Keeffe Quartet
DESCRIPTION:Photocredit: Lara de Belder\n\nCollage presentsÂ Charlotte
  Keeffe Quartet - Right Here, Right Now\nâ€˜â€¦Keeffe shows notable st
 rength of character as she runs the sonic and emotional gamut.â€™ - Ke
 vin Le Gendre, JAZZWISE\nCharlotte Keeffeâ€™s unique approach and pass
 ion for improvisation, jazz and experimental music making sees her per
 forming regularly as a soloist and as part of a variety of different e
 nsembles, including her own Quartet.\nHer Quartet is Ashley John Long 
 (Paul Dunmall collaborator) on double bass, Ben Handysides on drums, M
 oss Freed (Let Spin) on guitar and herself on trumpet and flugelhorn; 
 they explore merging together Charlotteâ€™s compositions with freely i
 mprovising.\n(The) Charlotte Keeffe Quartet performed a sellout perfor
 mance at Lancaster Jazz Festival in 2019 and their live recording from
  Jazz in the Round has been featured on radio shows around the world. 
 Fresh from playing Cambridge, the London Jazz Festival, (Londonâ€™s) C
 afÃ© OTO, Birmingham, Newcastle and Sheffield, (The) Charlotte Keeffe 
 Quartet are delighted to be continuing their U.K. tour Right Here, Rig
 ht Now, celebrating the release of Charlotteâ€™s debut album, Right He
 re, Right Now.\nRight Here, Right Now features a selection of Charlott
 eâ€™s improvised works for solo, duo, quartet and (the) London Improvi
 sers Orchestra, itâ€™s out now on theÂ Discus Music record label;\nBan
 d lineup:Â Charlotte Keeffe - trumpet, flugelhorn, compositions Ashley
  John Long - double bass Ben Handysides - drums Moss Freed - guitar\nâ
 €˜Fresh on the scene, trumpeter Charlotte Keeffe is a whirlwind of ext
 ended techniques and tactile puzzles, removing the mouthpiece to elici
 t a windy howl, using her left hand as a mute in the bell of the horn 
 and revelling in restless possibilities.â€™ - Daniel Spicer, JAZZWISE\
 nâ€˜â€¦Charlotte Keeffeâ€™s blood-red, rasping flugelhorn and trumpet 
 blew breathy cadences and messages as if her lungs were burning with a
 n electricity all of her own.â€™ - Chris Searle, MORNING STAR\nhttps:/
 /www.charlottekeeffe.com\nBandcamp\n\nDoors open at 7pm, music starts 
 at 8pm. Please book a ticket in advance.\nTickets Â£5-10\nhttps://www.
 musicglue.com/karamel\nVENUE: MAAD (fka Karamel), 4 Coburg Rd, Wood Gr
 een, London N22 6UJ\nThe premises has a fresh air ventilation system i
 nstalled throughout the restaurant and theatre. Menu is available at m
 aad.co\n\nFor more information visit https://bowesandbounds.org/events
 /charlotte-keeffe-quartet
DTSTART;TZID=Europe/London:20221124T200000
DTEND;TZID=Europe/London:20221124T220000
CATEGORIES:jazz, music, live
LOCATION:MAAD, 4 Coburg Road, London N22 6UJ
WEBSITE:https://www.musicglue.com/karamel
URL:https://www.musicglue.com/karamel
CONTACT:
ORGANIZER;CN="Collage Artspaces":https://bowesandbounds.org/profile/Co
 llage_Arts
ATTACH;FMTTYPE="image/jpeg":https://storage.ning.com/topology/rest/1.0
 /file/get/10886070474?profile=original
ATTENDEE;ROLE=REQ-PARTICIPANT;PARTSTAT=ACCEPTED;RSVP=TRUE;CN="Collage 
 Artspaces":https://bowesandbounds.org/profile/Collage_Arts
END:VEVENT
END:VCALENDAR
