BEGIN:VCALENDAR
PRODID:NingEventWidget-v1
VERSION:2.0
METHOD:PUBLISH
BEGIN:VTIMEZONE
TZID:Europe/London
X-LIC-LOCATION:Europe/London
BEGIN:DAYLIGHT
TZOFFSETFROM:+0000
TZOFFSETTO:+0100
TZNAME:BST
DTSTART:19700329T010000
RRULE:FREQ=YEARLY;BYMONTH=3;BYDAY=-1SU
END:DAYLIGHT
BEGIN:STANDARD
TZOFFSETFROM:+0100
TZOFFSETTO:+0000
TZNAME:GMT
DTSTART:19701025T020000
RRULE:FREQ=YEARLY;BYMONTH=10;BYDAY=-1SU
END:STANDARD
END:VTIMEZONE
BEGIN:VEVENT
UID:6278630:Event:65106
DTSTAMP:20260425T182240Z
SUMMARY:Children's Street Dance and Cheerleading - FREE trial sessions
DESCRIPTION:As the new term starts, we are offering two free trial ses
 sions in Street dance and Cheerleading!\nOn Monday 9th September 2013 
 we are offering Street Dance from 5.15 - 6pm and is suitable for child
 ren aged 5 yrs +\nOn Tuesday 10th September 2013, we are offering Chee
 rleading from 5.45 - 6.15pm. This class is suitable for boys and girls
  aged 6yrs +\nAll classes are held at St Michaels Church Hall on Bound
 s Green Road.\nWe also offer Ballet, Zumba Kids® and Performing Arts 
 classes.\nPlease call Amie on 07890 994597 for more information or ema
 il dancearc@me.com\n\n\n\n\nFor more information visit https://bowesan
 dbounds.org/events/children-s-street-dance-and-cheerleading-free-trial
 -sessions
DTSTART;TZID=Europe/London:20130909T171500
DTEND;TZID=Europe/London:20130909T180000
CATEGORIES:dance, children
LOCATION:St Michaels Church Hall
WEBSITE:
URL:
CONTACT:07890 994597
ORGANIZER:Amie Liddle
ATTACH;FMTTYPE="image/jpeg":http://storage.ning.com/topology/rest/1.0/
 file/get/2287254188?profile=original
ATTENDEE;ROLE=REQ-PARTICIPANT;PARTSTAT=ACCEPTED;RSVP=TRUE;CN=Administr
 ator:https://bowesandbounds.org/profile/Administrator
END:VEVENT
END:VCALENDAR
