BEGIN:VCALENDAR
PRODID:NingEventWidget-v1
VERSION:2.0
METHOD:PUBLISH
BEGIN:VTIMEZONE
TZID:Europe/London
X-LIC-LOCATION:Europe/London
BEGIN:DAYLIGHT
TZOFFSETFROM:+0000
TZOFFSETTO:+0100
TZNAME:BST
DTSTART:19700329T010000
RRULE:FREQ=YEARLY;BYMONTH=3;BYDAY=-1SU
END:DAYLIGHT
BEGIN:STANDARD
TZOFFSETFROM:+0100
TZOFFSETTO:+0000
TZNAME:GMT
DTSTART:19701025T020000
RRULE:FREQ=YEARLY;BYMONTH=10;BYDAY=-1SU
END:STANDARD
END:VTIMEZONE
BEGIN:VEVENT
UID:6278630:Event:98570
DTSTAMP:20260421T233929Z
SUMMARY:Chilli Sale in the Conservatory
DESCRIPTION:A Chilli sale will take place in the conservatory.\nThere 
 will be a range of plants at reasonable prices to be grown on at home.
   Also, herbs available.\nTake the chance to see our ever changing pl
 ants and admire the railings from the Triangle in their new home.\n\nF
 or more information visit https://bowesandbounds.org/events/chilli-sal
 e-in-the-conservatory
DTSTART;TZID=Europe/London:20150802T143000
DTEND;TZID=Europe/London:20150802T163000
CATEGORIES:fundraiser
LOCATION:The Conservatory, Broomfield Park
WEBSITE:http://www.friendsofbroomfieldpark.org
URL:http://www.friendsofbroomfieldpark.org
CONTACT:
ORGANIZER;CN="Geraldine Anwar":https://bowesandbounds.org/profile/Gera
 ldineAnwar
ATTACH;FMTTYPE="image/jpeg":http://storage.ning.com/topology/rest/1.0/
 file/get/2287274946?profile=original
ATTENDEE;ROLE=REQ-PARTICIPANT;PARTSTAT=ACCEPTED;RSVP=TRUE;CN="Geraldin
 e Anwar":https://bowesandbounds.org/profile/GeraldineAnwar
END:VEVENT
END:VCALENDAR
