BEGIN:VCALENDAR
PRODID:NingEventWidget-v1
VERSION:2.0
METHOD:PUBLISH
BEGIN:VTIMEZONE
TZID:Europe/London
X-LIC-LOCATION:Europe/London
BEGIN:DAYLIGHT
TZOFFSETFROM:+0000
TZOFFSETTO:+0100
TZNAME:BST
DTSTART:19700329T010000
RRULE:FREQ=YEARLY;BYMONTH=3;BYDAY=-1SU
END:DAYLIGHT
BEGIN:STANDARD
TZOFFSETFROM:+0100
TZOFFSETTO:+0000
TZNAME:GMT
DTSTART:19701025T020000
RRULE:FREQ=YEARLY;BYMONTH=10;BYDAY=-1SU
END:STANDARD
END:VTIMEZONE
BEGIN:VEVENT
UID:6278630:Event:238468
DTSTAMP:20260424T005509Z
SUMMARY:Christina Alden and Alex Patterson at Bowes Park Folk club
DESCRIPTION:Entry by ticket: £7 adults/ £5 U18.BUY TICKETS ONLINE N
 OW\nDelicious Mediterranean-inspired Mum's Bistro menu.Bounds Green tu
 be (Piccadilly Line) - 10 minutes' walkBowes Park overground station -
  1 minute's walk\nA note on Covid-19: with cases of Covid still high 
 across the country, we would appreciate it if those attending BPFC eve
 nts would take a lateral flow test prior to the event, and consider we
 aring a face-covering when not eating, drinking or singing. Thank you 
 for your support, BPFC organising crew.\n\nFor more information visit
  https://bowesandbounds.org/events/christina-alden-and-alex-patterson-
 at-bowes-park-folk-club
DTSTART;TZID=Europe/London:20211202T194500
DTEND;TZID=Europe/London:20211202T224500
CATEGORIES:folk, "music/singing"
LOCATION:Mum's Bistro
WEBSITE:
URL:
CONTACT:
ORGANIZER;CN="Anne Heagney":https://bowesandbounds.org/profile/AnneHea
 gney
ATTACH;FMTTYPE="image/jpeg":https://storage.ning.com/topology/rest/1.0
 /file/get/9817279265?profile=original
ATTENDEE;ROLE=REQ-PARTICIPANT;PARTSTAT=ACCEPTED;RSVP=TRUE;CN="Anne Hea
 gney":https://bowesandbounds.org/profile/AnneHeagney
END:VEVENT
END:VCALENDAR
