BEGIN:VCALENDAR
PRODID:NingEventWidget-v1
VERSION:2.0
METHOD:PUBLISH
BEGIN:VTIMEZONE
TZID:Europe/London
X-LIC-LOCATION:Europe/London
BEGIN:DAYLIGHT
TZOFFSETFROM:+0000
TZOFFSETTO:+0100
TZNAME:BST
DTSTART:19700329T010000
RRULE:FREQ=YEARLY;BYMONTH=3;BYDAY=-1SU
END:DAYLIGHT
BEGIN:STANDARD
TZOFFSETFROM:+0100
TZOFFSETTO:+0000
TZNAME:GMT
DTSTART:19701025T020000
RRULE:FREQ=YEARLY;BYMONTH=10;BYDAY=-1SU
END:STANDARD
END:VTIMEZONE
BEGIN:VEVENT
UID:6278630:Event:139228
DTSTAMP:20260423T101407Z
SUMMARY:Christmas Bazar!
DESCRIPTION:Christmas is around the corner!\nBook a stall at our\nChri
 stmas Bazaar\n\n30 November at 12 noon.\nFor just £20 (6 feet)\n\nCon
 tact:\nkanwal@thecommunityhub.org.uk\ntel: 020 8889 6938\nMob: 075 510
 9 6365 (text only)\n\nAn exciting day out of shopping, Food and fun to
  welcome the holiday season.\nfun day out for whole family!!\nFood and
  drinks will also be available at the Bazar\n\nWe will advertise your 
 business within our marketing,\nWe will need your help towards in your
  own advertising strategies!\nLooking forward to hear from you and mee
 t you at our Christmas Bazar!!!!\nWe are based at Caxton Road, just be
 hind WoodGreen Library!!\n \n \n \n\nFor more information visit htt
 ps://bowesandbounds.org/events/christmas-bazar
DTSTART;TZID=Europe/London:20191130T120000
DTEND;TZID=Europe/London:20191130T170000
CATEGORIES:"#christmas", "#stall", "#selling", "#craft", "#ornaments",
  "#jewelry", "#local", "#business", "#community", "#together"
LOCATION:The Comunity Hub Haringey
WEBSITE:
URL:
CONTACT:02088896938
ORGANIZER;CN="The Community Hub Haringey":https://bowesandbounds.org/p
 rofile/TheCommunityHubHaringey
ATTACH;FMTTYPE="image/jpeg":https://storage.ning.com/topology/rest/1.0
 /file/get/3703706656?profile=original
ATTENDEE;ROLE=REQ-PARTICIPANT;PARTSTAT=ACCEPTED;RSVP=TRUE;CN="The Comm
 unity Hub Haringey":https://bowesandbounds.org/profile/TheCommunityHub
 Haringey
END:VEVENT
END:VCALENDAR
