BEGIN:VCALENDAR
PRODID:NingEventWidget-v1
VERSION:2.0
METHOD:PUBLISH
BEGIN:VTIMEZONE
TZID:Europe/London
X-LIC-LOCATION:Europe/London
BEGIN:DAYLIGHT
TZOFFSETFROM:+0000
TZOFFSETTO:+0100
TZNAME:BST
DTSTART:19700329T010000
RRULE:FREQ=YEARLY;BYMONTH=3;BYDAY=-1SU
END:DAYLIGHT
BEGIN:STANDARD
TZOFFSETFROM:+0100
TZOFFSETTO:+0000
TZNAME:GMT
DTSTART:19701025T020000
RRULE:FREQ=YEARLY;BYMONTH=10;BYDAY=-1SU
END:STANDARD
END:VTIMEZONE
BEGIN:VEVENT
UID:6278630:Event:251893
DTSTAMP:20260424T024247Z
SUMMARY:Christmas Fair at St Martin of Porres
DESCRIPTION:Join us at the St Martin of Porres Christmas Fair on Frida
 y 5th December.\nPop in after school or when it gets too dark in the p
 ark to play any more... St Martin's is 5 minutes away from Oliver Tamb
 o Rec, up on Blake Road.\nHot drinks and refreshments | Tombolas | Luc
 ky jam jars | Visit Father Christmas | Face painting | Pocket money to
 ys and stocking fillers | Free crafts | Beat the blob\n\nFor more info
 rmation visit https://bowesandbounds.org/events/christmas-fair-at-st-m
 artin-of-porres-1
DTSTART;TZID=Europe/London:20251205T153000
DTEND;TZID=Europe/London:20251205T173000
CATEGORIES:christmas, family, fair, crafts
LOCATION:St Martin of Porres RC primary school
WEBSITE:http://www.stmartinofporres.co.uk/
URL:http://www.stmartinofporres.co.uk/
CONTACT:0208 361 1445
ORGANIZER;CN="Penny Woods":https://bowesandbounds.org/profile/PennyWoo
 ds
ATTACH;FMTTYPE="image/jpeg":https://storage.ning.com/topology/rest/1.0
 /file/get/31000245101?profile=original
ATTENDEE;ROLE=REQ-PARTICIPANT;PARTSTAT=ACCEPTED;RSVP=TRUE;CN="Penny Wo
 ods":https://bowesandbounds.org/profile/PennyWoods
END:VEVENT
END:VCALENDAR
