BEGIN:VCALENDAR
PRODID:NingEventWidget-v1
VERSION:2.0
METHOD:PUBLISH
BEGIN:VTIMEZONE
TZID:Europe/London
X-LIC-LOCATION:Europe/London
BEGIN:DAYLIGHT
TZOFFSETFROM:+0000
TZOFFSETTO:+0100
TZNAME:BST
DTSTART:19700329T010000
RRULE:FREQ=YEARLY;BYMONTH=3;BYDAY=-1SU
END:DAYLIGHT
BEGIN:STANDARD
TZOFFSETFROM:+0100
TZOFFSETTO:+0000
TZNAME:GMT
DTSTART:19701025T020000
RRULE:FREQ=YEARLY;BYMONTH=10;BYDAY=-1SU
END:STANDARD
END:VTIMEZONE
BEGIN:VEVENT
UID:6278630:Event:242355
DTSTAMP:20260422T220124Z
SUMMARY:Christmas fair at St Martin of Porres
DESCRIPTION:You're warmly invited to St Martin of Porres Christmas fai
 r!\nWhen: Saturday 26th November, 12–3pm Where: St Martin of Porres 
 RC Primary School, Blake Road\n\nRefreshments\nSanta's grotto\nChristm
 as essentials stall\nPocket money toys\nLucky jam jars\nSpin the wheel
 \nChildren's treats tombola\nBottle tombola\nTeddy tombola\nFace paint
 ing, nail painting and crafts\nFootball\nChristmas puddings game\n\nIf
  you have any questions or would like a stall, please email stmartinfr
 iends@gmail.com.\nSee you there!\n\nFor more information visit https:/
 /bowesandbounds.org/events/christmas-fair-at-st-martin-of-porres
DTSTART;TZID=Europe/London:20221126T120000
DTEND;TZID=Europe/London:20221126T150000
CATEGORIES:fundraiser, christmas, fair, schools
LOCATION:St Martin of Porres Primary School, N11 2AF
WEBSITE:http://www.stmartinofporres.co.uk/
URL:http://www.stmartinofporres.co.uk/
CONTACT:
ORGANIZER;CN="Penny Woods":https://bowesandbounds.org/profile/PennyWoo
 ds
ATTACH;FMTTYPE="image/jpeg":https://storage.ning.com/topology/rest/1.0
 /file/get/10882286280?profile=original
ATTENDEE;ROLE=REQ-PARTICIPANT;PARTSTAT=ACCEPTED;RSVP=TRUE;CN="Penny Wo
 ods":https://bowesandbounds.org/profile/PennyWoods
END:VEVENT
END:VCALENDAR
