BEGIN:VCALENDAR
PRODID:NingEventWidget-v1
VERSION:2.0
METHOD:PUBLISH
BEGIN:VTIMEZONE
TZID:Europe/London
X-LIC-LOCATION:Europe/London
BEGIN:DAYLIGHT
TZOFFSETFROM:+0000
TZOFFSETTO:+0100
TZNAME:BST
DTSTART:19700329T010000
RRULE:FREQ=YEARLY;BYMONTH=3;BYDAY=-1SU
END:DAYLIGHT
BEGIN:STANDARD
TZOFFSETFROM:+0100
TZOFFSETTO:+0000
TZNAME:GMT
DTSTART:19701025T020000
RRULE:FREQ=YEARLY;BYMONTH=10;BYDAY=-1SU
END:STANDARD
END:VTIMEZONE
BEGIN:VEVENT
UID:6278630:Event:252310
DTSTAMP:20260424T034823Z
SUMMARY:Christmas Family Film Night
DESCRIPTION:Join us at Muswell Hill Methodist Church for a family film
  night – we’re going to watch the classic Christmas film Home Alon
 e (PG: moderate slapstick violence and infrequent moderate language)\n
 All are welcome at our Christmas events. There’s no need to book and
  if you’re not sure about anything, there’ll be stewards around to
  help on the day, or use our contact page to ring or email us in advan
 ce.\nWe have baby changing, quiet areas if anyone (young or old!) gets
  overwhelmed, and free refreshments at most services.\nWhoever you are
 , whatever you believe – you’re welcome.\n> See all our Advent and
  Christmas services\n\nFor more information visit https://bowesandboun
 ds.org/events/christmas-family-film-night
DTSTART;TZID=Europe/London:20251206T180000
DTEND;TZID=Europe/London:20251206T203000
CATEGORIES:film, family, christmas
LOCATION:Muswell Hill Methodist Church
WEBSITE:https://mhmc.org.uk/
URL:https://mhmc.org.uk/
CONTACT:020 8365 2466
ORGANIZER;CN="Penny Woods":https://bowesandbounds.org/profile/PennyWoo
 ds
ATTACH;FMTTYPE="image/jpeg":https://storage.ning.com/topology/rest/1.0
 /file/get/31000127675?profile=original
ATTENDEE;ROLE=REQ-PARTICIPANT;PARTSTAT=ACCEPTED;RSVP=TRUE;CN="Penny Wo
 ods":https://bowesandbounds.org/profile/PennyWoods
END:VEVENT
END:VCALENDAR
