BEGIN:VCALENDAR
PRODID:NingEventWidget-v1
VERSION:2.0
METHOD:PUBLISH
BEGIN:VTIMEZONE
TZID:Europe/London
X-LIC-LOCATION:Europe/London
BEGIN:DAYLIGHT
TZOFFSETFROM:+0000
TZOFFSETTO:+0100
TZNAME:BST
DTSTART:19700329T010000
RRULE:FREQ=YEARLY;BYMONTH=3;BYDAY=-1SU
END:DAYLIGHT
BEGIN:STANDARD
TZOFFSETFROM:+0100
TZOFFSETTO:+0000
TZNAME:GMT
DTSTART:19701025T020000
RRULE:FREQ=YEARLY;BYMONTH=10;BYDAY=-1SU
END:STANDARD
END:VTIMEZONE
BEGIN:VEVENT
UID:6278630:Event:125738
DTSTAMP:20260426T005255Z
SUMMARY:Church Anniversary Service
DESCRIPTION:Guest Preacher Rev Bonni Belle Pickard\n\n\nRev Bonni Bell
 e Pickard is a Superintendent of North kent Methodist Circuit (previou
 sly Superintendent of Enfield Methodist Circuit)\n\nFor more informati
 on visit https://bowesandbounds.org/events/church-anniversary-service
DTSTART;TZID=Europe/London:20171015T101500
DTEND;TZID=Europe/London:20171015T114500
CATEGORIES:church, anniversary
LOCATION:Southgate Methodist Church
WEBSITE:
URL:
CONTACT:
ORGANIZER;CN="Donald Smith":https://bowesandbounds.org/profile/DonaldS
 mith
ATTACH;FMTTYPE="image/jpeg":
ATTENDEE;ROLE=REQ-PARTICIPANT;PARTSTAT=ACCEPTED;RSVP=TRUE;CN="Donald S
 mith":https://bowesandbounds.org/profile/DonaldSmith
END:VEVENT
END:VCALENDAR
