BEGIN:VCALENDAR
PRODID:NingEventWidget-v1
VERSION:2.0
METHOD:PUBLISH
BEGIN:VTIMEZONE
TZID:Europe/London
X-LIC-LOCATION:Europe/London
BEGIN:DAYLIGHT
TZOFFSETFROM:+0000
TZOFFSETTO:+0100
TZNAME:BST
DTSTART:19700329T010000
RRULE:FREQ=YEARLY;BYMONTH=3;BYDAY=-1SU
END:DAYLIGHT
BEGIN:STANDARD
TZOFFSETFROM:+0100
TZOFFSETTO:+0000
TZNAME:GMT
DTSTART:19701025T020000
RRULE:FREQ=YEARLY;BYMONTH=10;BYDAY=-1SU
END:STANDARD
END:VTIMEZONE
BEGIN:VEVENT
UID:6278630:Event:109599
DTSTAMP:20260423T231337Z
SUMMARY:Click Camera Club Exhibition: Hertford Loop
DESCRIPTION:The Step features a new photographic exhibition by members
  of the Click Camera Club.\nThe exhibition traces the railway line whi
 ch runs north / south from Moorgate through Bowes Park to Hertford Our
  local photographers have captured the train line and places along the
  route.\n\n\n\nFor more information visit https://bowesandbounds.org/e
 vents/click-camera-club-exhibition-hertford-loop
DTSTART;TZID=Europe/London:20160305T000000
DTEND;TZID=Europe/London:20160404T235900
CATEGORIES:photography, exhibition
LOCATION:The Step
WEBSITE:https://www.facebook.com/groups/163324897185631/?fref=ts
URL:https://www.facebook.com/groups/163324897185631/?fref=ts
CONTACT:
ORGANIZER;CN="Richard McKeever":https://bowesandbounds.org/profile/3hw
 xkqhdde8gc
ATTACH;FMTTYPE="image/jpeg":http://storage.ning.com/topology/rest/1.0/
 file/get/2287305938?profile=original
ATTENDEE;ROLE=REQ-PARTICIPANT;PARTSTAT=ACCEPTED;RSVP=TRUE;CN=Jane:http
 s://bowesandbounds.org/profile/Jane976
ATTENDEE;ROLE=REQ-PARTICIPANT;PARTSTAT=ACCEPTED;RSVP=TRUE;CN="Richard 
 McKeever":https://bowesandbounds.org/profile/3hwxkqhdde8gc
END:VEVENT
END:VCALENDAR
