BEGIN:VCALENDAR
PRODID:NingEventWidget-v1
VERSION:2.0
METHOD:PUBLISH
BEGIN:VTIMEZONE
TZID:Europe/London
X-LIC-LOCATION:Europe/London
BEGIN:DAYLIGHT
TZOFFSETFROM:+0000
TZOFFSETTO:+0100
TZNAME:BST
DTSTART:19700329T010000
RRULE:FREQ=YEARLY;BYMONTH=3;BYDAY=-1SU
END:DAYLIGHT
BEGIN:STANDARD
TZOFFSETFROM:+0100
TZOFFSETTO:+0000
TZNAME:GMT
DTSTART:19701025T020000
RRULE:FREQ=YEARLY;BYMONTH=10;BYDAY=-1SU
END:STANDARD
END:VTIMEZONE
BEGIN:VEVENT
UID:6278630:Event:252870
DTSTAMP:20260423T150309Z
SUMMARY:CLIMATE ANXIETY: free speaker meeting on eco-anxiety
DESCRIPTION:Join Muswell Hill Sustainability Group and a panel of spea
 kers including Sue Heap, Integrative Psychotherapist and Amy Meek, co-
 founder Kids Against Plastic, for an evening investigating CLIMATE AN
 XIETY: the profound, chronic fear of environmental doom and emotional
  distress regarding the accelerating climate crisis. It is a growing a
 nd worrying issue, particularly impacting the younger generation. So, 
 we'll be looking at the facts, and offering advice and inspirational
  stories on how to identify, manage, discuss, counter and leverage the
  associate feelings of fear, hopelessness, anger, grief, frustration .
 ..\n\nFor more information visit https://bowesandbounds.org/events/cli
 mate-anxiety-free-speaker-meeting-on-eco-anxiety
DTSTART;TZID=Europe/London:20260302T193000
DTEND;TZID=Europe/London:20260302T210000
CATEGORIES:free, evening, of, talks, and, "q&amp", a
LOCATION:Muswell Hill Methodist Church
WEBSITE:https://wegottickets.com/event/692931
URL:https://wegottickets.com/event/692931
CONTACT:07968963456
ORGANIZER;CN="Lisa Jones":https://bowesandbounds.org/profile/LisaJones
 508
ATTACH;FMTTYPE="image/jpeg":https://storage.ning.com/topology/rest/1.0
 /file/get/31087848277?profile=original
ATTENDEE;ROLE=REQ-PARTICIPANT;PARTSTAT=ACCEPTED;RSVP=TRUE;CN="Lisa Jon
 es":https://bowesandbounds.org/profile/LisaJones508
END:VEVENT
END:VCALENDAR
