BEGIN:VCALENDAR
PRODID:NingEventWidget-v1
VERSION:2.0
METHOD:PUBLISH
BEGIN:VTIMEZONE
TZID:Europe/London
X-LIC-LOCATION:Europe/London
BEGIN:DAYLIGHT
TZOFFSETFROM:+0000
TZOFFSETTO:+0100
TZNAME:BST
DTSTART:19700329T010000
RRULE:FREQ=YEARLY;BYMONTH=3;BYDAY=-1SU
END:DAYLIGHT
BEGIN:STANDARD
TZOFFSETFROM:+0100
TZOFFSETTO:+0000
TZNAME:GMT
DTSTART:19701025T020000
RRULE:FREQ=YEARLY;BYMONTH=10;BYDAY=-1SU
END:STANDARD
END:VTIMEZONE
BEGIN:VEVENT
UID:6278630:Event:239810
DTSTAMP:20260420T114044Z
SUMMARY:Coffee and Craft at Stitch! (Origami Star Greeting Cards)
DESCRIPTION:Craft & Coffee at Stitch!\nJoin us at Stitch for 2 hours o
 f crafting and coffee on Thursdays.\nThis session at coffee and craft 
 you will be learning how to do the Japanese technique of paper folding
  called Origami. Based on patchwork design, you will create a beautifu
 l folded star to add on to a Greeting Card.\nON OFFER: A warm cosy env
 ironment filled with new ideas, creativity, relaxation and refreshment
 s.\nDURATION: 2 hours per sessionCOST: £20 per session\nDATE: Thursda
 y 28th, April 12-2pmNo previous experience necessary - just your enthu
 siasm!\nWe look forward to crafting with you.\nThe Team @ Stitch\n\nFo
 r more information visit https://bowesandbounds.org/events/coffee-and-
 craft-at-stitch-origami-star-greeting-cards
DTSTART;TZID=Europe/London:20220428T120000
DTEND;TZID=Europe/London:20220428T140000
CATEGORIES:crafting, class
LOCATION:Stitch Crafts and Classes, 364 Green Lanes, (inside Post Offi
 ce entrance) Palmers Green, N13 5XL
WEBSITE:https://www.stitch.org.uk/
URL:https://www.stitch.org.uk/
CONTACT:07903 614726
ORGANIZER;CN="Suzanne Kelly":https://bowesandbounds.org/profile/Suzann
 eKelly
ATTACH;FMTTYPE="image/jpeg":https://storage.ning.com/topology/rest/1.0
 /file/get/10373759671?profile=original
ATTENDEE;ROLE=REQ-PARTICIPANT;PARTSTAT=ACCEPTED;RSVP=TRUE;CN="Suzanne 
 Kelly":https://bowesandbounds.org/profile/SuzanneKelly
END:VEVENT
END:VCALENDAR
