BEGIN:VCALENDAR
PRODID:NingEventWidget-v1
VERSION:2.0
METHOD:PUBLISH
BEGIN:VTIMEZONE
TZID:Europe/London
X-LIC-LOCATION:Europe/London
BEGIN:DAYLIGHT
TZOFFSETFROM:+0000
TZOFFSETTO:+0100
TZNAME:BST
DTSTART:19700329T010000
RRULE:FREQ=YEARLY;BYMONTH=3;BYDAY=-1SU
END:DAYLIGHT
BEGIN:STANDARD
TZOFFSETFROM:+0100
TZOFFSETTO:+0000
TZNAME:GMT
DTSTART:19701025T020000
RRULE:FREQ=YEARLY;BYMONTH=10;BYDAY=-1SU
END:STANDARD
END:VTIMEZONE
BEGIN:VEVENT
UID:6278630:Event:99343
DTSTAMP:20260425T151630Z
SUMMARY:Coggers Funfair at Broomfield Park
DESCRIPTION:\n\nAll the fun of fair presented by Coggers Nationwide Am
 usements\nCLICK HERE for 2014 event on youtube.be\nOpen 1pm to 8pm eve
 ry day\nAdmission £1:00 and receive two x 50p ride tickets\n\nTranspo
 rt: Bus 299, Bus W6 and Bus 121 provide public transport to and from S
 outhgate LUL; Route 299 links to Bounds Green LUL (use Wilmer Way stop
 )\n\nWhatever the weather:on Wednesday, Saturday or Sunday treat yours
 elf\n\n\nFor more information visit https://bowesandbounds.org/events/
 coggers-funfair-at-broomfield-park-1
DTSTART;TZID=Europe/London:20150731T130000
DTEND;TZID=Europe/London:20150809T200000
CATEGORIES:funfair, "broomfield park"
LOCATION:Broomfield Park, Aldermans Hill N13
WEBSITE:http://www.friendsofbroomfieldpark.org/
URL:http://www.friendsofbroomfieldpark.org/
CONTACT:
ORGANIZER;CN="Donald Smith":https://bowesandbounds.org/profile/DonaldS
 mith
ATTACH;FMTTYPE="image/jpeg":
ATTENDEE;ROLE=REQ-PARTICIPANT;PARTSTAT=ACCEPTED;RSVP=TRUE;CN="Donald S
 mith":https://bowesandbounds.org/profile/DonaldSmith
END:VEVENT
END:VCALENDAR
