BEGIN:VCALENDAR
PRODID:NingEventWidget-v1
VERSION:2.0
METHOD:PUBLISH
BEGIN:VTIMEZONE
TZID:Europe/London
X-LIC-LOCATION:Europe/London
BEGIN:DAYLIGHT
TZOFFSETFROM:+0000
TZOFFSETTO:+0100
TZNAME:BST
DTSTART:19700329T010000
RRULE:FREQ=YEARLY;BYMONTH=3;BYDAY=-1SU
END:DAYLIGHT
BEGIN:STANDARD
TZOFFSETFROM:+0100
TZOFFSETTO:+0000
TZNAME:GMT
DTSTART:19701025T020000
RRULE:FREQ=YEARLY;BYMONTH=10;BYDAY=-1SU
END:STANDARD
END:VTIMEZONE
BEGIN:VEVENT
UID:6278630:Event:122295
DTSTAMP:20260423T174110Z
SUMMARY:Collage Nights ft Koral Society and George Works
DESCRIPTION:Collage Nights is back! This time ft Koral Society and Geo
 rge Works. This month we're celebrating sunshine vibes and a launch pa
 rty: Koral Society's album launch - A bit of a \"super\"group - \"Caro
 line Trettine’s guitar-based songs are transformed by the virtuosic 
 Mosi Conde on kora and Alison Rayner on double bass into fine, vibrant
  melodic textures and intricate rhythms.\" Help us to celebrate their 
 album \"Water's Wide\" at Collage Nights http://www.carolinetrettine.
 com/koral/ and George Works - \"Dub quartet, George Works, finally se
 ttled on their current sound in 2013. Trumpet, drums, bass, guitar and
  engaging vocals, this London-based ensemble have been tearing up the 
 UK underground. George Works have fostered a sound that is as eclectic
  as it is infectious. This is live music made for dancing, no two show
 s are ever the same.\" http://www.georgeworks.co.uk/ With live visua
 ls and a DJ Tickets are £8.00 adv / £10.00 otd\n\nFor more informati
 on visit https://bowesandbounds.org/events/collage-nights-ft-koral-soc
 iety-and-george-works
DTSTART;TZID=Europe/London:20170510T180000
DTEND;TZID=Europe/London:20170510T190000
CATEGORIES:live, music
LOCATION:Karamel Wood Green, N22 6UJ
WEBSITE:https://www.musicglue.com/karamel/events/2017-05-10-collage-ni
 ghts-karamel
URL:https://www.musicglue.com/karamel/events/2017-05-10-collage-nights
 -karamel
CONTACT:020 8829 8989
ORGANIZER;CN="Events at Karamel":https://bowesandbounds.org/profile/Ph
 ilSherman
ATTACH;FMTTYPE="image/jpeg":http://storage.ning.com/topology/rest/1.0/
 file/get/2287318736?profile=original
ATTENDEE;ROLE=REQ-PARTICIPANT;PARTSTAT=ACCEPTED;RSVP=TRUE;CN="Events a
 t Karamel":https://bowesandbounds.org/profile/PhilSherman
END:VEVENT
END:VCALENDAR
