BEGIN:VCALENDAR
PRODID:NingEventWidget-v1
VERSION:2.0
METHOD:PUBLISH
BEGIN:VTIMEZONE
TZID:Europe/London
X-LIC-LOCATION:Europe/London
BEGIN:DAYLIGHT
TZOFFSETFROM:+0000
TZOFFSETTO:+0100
TZNAME:BST
DTSTART:19700329T010000
RRULE:FREQ=YEARLY;BYMONTH=3;BYDAY=-1SU
END:DAYLIGHT
BEGIN:STANDARD
TZOFFSETFROM:+0100
TZOFFSETTO:+0000
TZNAME:GMT
DTSTART:19701025T020000
RRULE:FREQ=YEARLY;BYMONTH=10;BYDAY=-1SU
END:STANDARD
END:VTIMEZONE
BEGIN:VEVENT
UID:6278630:Event:125819
DTSTAMP:20260424T201441Z
SUMMARY:Collage Nights – Soulful Jazz, Country Noir and Hip-Hop
DESCRIPTION:Let’s get together, raise a glass of craft beer, share o
 ur stories from the summer and listen to some great music amidst beaut
 iful art, and eat some yummy vegan food with live music from:\nJordan 
 Jackson & Friends (Soulful Jazz Piano Pop) Léscines – (Psychadelic
  Country Noir) AND Only Takes A Day (Acoustic hip-hop)\nWondering wha
 t that sounds like? We have a playlist for you https://www.youtube.co
 m/playlist?list=PLwqOY9jzPM8S_ld6h89m-oPiTTFIfuHRO\nTickets are on sal
 e now – £6.00 Early Bird / £8.00 otd\nIn association with Collage 
 Arts Jataneel Banerjee and Karamel Club Collage nights are a monthly n
 ight of some of the best underground music, curated by Jatanil Banerje
 e Music in association with Collage Arts\n\nFor more information visit
  https://bowesandbounds.org/events/collage-nights-soulful-jazz-country
 -noir-and-hip-hop
DTSTART;TZID=Europe/London:20170913T190000
DTEND;TZID=Europe/London:20170913T230000
CATEGORIES:"'karamel'", "'karamel", "music'", "'music", at, "karamel'"
 , "events'", "'collage", "nights'", "'jazz"
LOCATION:Karamel
WEBSITE:http://www.karamel.london
URL:http://www.karamel.london
CONTACT:0208 829 8989
ORGANIZER;CN="Events at Karamel":https://bowesandbounds.org/profile/Ph
 ilSherman
ATTACH;FMTTYPE="image/jpeg":http://storage.ning.com/topology/rest/1.0/
 file/get/2287320138?profile=original
ATTENDEE;ROLE=REQ-PARTICIPANT;PARTSTAT=ACCEPTED;RSVP=TRUE;CN="Events a
 t Karamel":https://bowesandbounds.org/profile/PhilSherman
END:VEVENT
END:VCALENDAR
