BEGIN:VCALENDAR
PRODID:NingEventWidget-v1
VERSION:2.0
METHOD:PUBLISH
BEGIN:VTIMEZONE
TZID:Europe/London
X-LIC-LOCATION:Europe/London
BEGIN:DAYLIGHT
TZOFFSETFROM:+0000
TZOFFSETTO:+0100
TZNAME:BST
DTSTART:19700329T010000
RRULE:FREQ=YEARLY;BYMONTH=3;BYDAY=-1SU
END:DAYLIGHT
BEGIN:STANDARD
TZOFFSETFROM:+0100
TZOFFSETTO:+0000
TZNAME:GMT
DTSTART:19701025T020000
RRULE:FREQ=YEARLY;BYMONTH=10;BYDAY=-1SU
END:STANDARD
END:VTIMEZONE
BEGIN:VEVENT
UID:6278630:Event:247846
DTSTAMP:20260426T012835Z
SUMMARY:Come &amp; Sing Songs from the Shows this Saturday!
DESCRIPTION:All singers, new or experienced, warmly invited to join us
  for our final Come & Sing this Saturday (13th) in Muswell Hill, North
  London. It'll be a fun and relaxed day rehearsing songs from three mu
 sicals. The workshop will be led by Cathal Garvey (Royal Academy of Mu
 sic).\nComments from previous attendees: \"Very professional and amiab
 le guidance\", \"Great fun and really rewarding - amazing the standard
  we got three pieces up to in just one day!\"\nPieces on the day:\nWor
 king Girl: Let the River Run\nCarousel: You’ll Never Walk Alone\nMed
 ley from South Pacific\n\nWe are also recruiting new choir members for
  the Autumn so this is a great opportunity to try us out! We rehearse 
 on Wednesday evenings in term time.\nEmail fmcinfo@fortismere.org.uk o
 r visit our website www.fortismeremusiccentre.co.uk for more informati
 on and to book. Tickets are £10 for the day and includes tea/coffee/c
 ake. Please bring a packed lunch for the break and a mug!\n\nFor more 
 information visit https://bowesandbounds.org/events/come-amp-sing-song
 s-from-the-shows-this-saturday
DTSTART;TZID=Europe/London:20240713T103000
DTEND;TZID=Europe/London:20240713T160000
CATEGORIES:come, "&amp", sing, music, singing
LOCATION:Fortismere Music Centre, Fortismere School
WEBSITE:http://www.fortismeremusiccentre.co.uk
URL:http://www.fortismeremusiccentre.co.uk
CONTACT:
ORGANIZER;CN="Fortismere Music Centre":https://bowesandbounds.org/prof
 ile/FortismereMusicCentre
ATTACH;FMTTYPE="image/jpeg":https://storage.ning.com/topology/rest/1.0
 /file/get/12704004296?profile=original
ATTENDEE;ROLE=REQ-PARTICIPANT;PARTSTAT=ACCEPTED;RSVP=TRUE;CN="Fortisme
 re Music Centre":https://bowesandbounds.org/profile/FortismereMusicCen
 tre
END:VEVENT
END:VCALENDAR
