BEGIN:VCALENDAR
PRODID:NingEventWidget-v1
VERSION:2.0
METHOD:PUBLISH
BEGIN:VTIMEZONE
TZID:Europe/London
X-LIC-LOCATION:Europe/London
BEGIN:DAYLIGHT
TZOFFSETFROM:+0000
TZOFFSETTO:+0100
TZNAME:BST
DTSTART:19700329T010000
RRULE:FREQ=YEARLY;BYMONTH=3;BYDAY=-1SU
END:DAYLIGHT
BEGIN:STANDARD
TZOFFSETFROM:+0100
TZOFFSETTO:+0000
TZNAME:GMT
DTSTART:19701025T020000
RRULE:FREQ=YEARLY;BYMONTH=10;BYDAY=-1SU
END:STANDARD
END:VTIMEZONE
BEGIN:VEVENT
UID:6278630:Event:62887
DTSTAMP:20260425T115828Z
SUMMARY:Comedy and Cupcakes
DESCRIPTION:The return of our comedy nights – a fabulous evening of 
 hilarious comedy and fantastic food hosted by Lara A King.  With very
  special guestsHetty Ashdown, Simon Fellder and Fun Bags its an evenin
 g you do not want to miss!! Friday 2nd of August from 8pm at Karamel r
 estaurant, 4 Coburg Road, Wood Green, London N22 6UJ.  Bookings 020 8
 829 8989\n\n\nFor more information visit https://bowesandbounds.org/ev
 ents/comedy-and-cupcakes
DTSTART;TZID=Europe/London:20130802T000000
DTEND;TZID=Europe/London:20130802T235900
CATEGORIES:comedy, night
LOCATION:Karamel
WEBSITE:http://www.karamelclub.co.uk
URL:http://www.karamelclub.co.uk
CONTACT:020 8829 8989
ORGANIZER;CN="Collage Arts":https://bowesandbounds.org/profile/Collage
 Arts
ATTACH;FMTTYPE="image/jpeg":http://storage.ning.com/topology/rest/1.0/
 file/get/2287252094?profile=original
ATTENDEE;ROLE=REQ-PARTICIPANT;PARTSTAT=ACCEPTED;RSVP=TRUE;CN="Collage 
 Arts":https://bowesandbounds.org/profile/CollageArts
END:VEVENT
END:VCALENDAR
