BEGIN:VCALENDAR
PRODID:NingEventWidget-v1
VERSION:2.0
METHOD:PUBLISH
BEGIN:VTIMEZONE
TZID:Europe/London
X-LIC-LOCATION:Europe/London
BEGIN:DAYLIGHT
TZOFFSETFROM:+0000
TZOFFSETTO:+0100
TZNAME:BST
DTSTART:19700329T010000
RRULE:FREQ=YEARLY;BYMONTH=3;BYDAY=-1SU
END:DAYLIGHT
BEGIN:STANDARD
TZOFFSETFROM:+0100
TZOFFSETTO:+0000
TZNAME:GMT
DTSTART:19701025T020000
RRULE:FREQ=YEARLY;BYMONTH=10;BYDAY=-1SU
END:STANDARD
END:VTIMEZONE
BEGIN:VEVENT
UID:6278630:Event:54774
DTSTAMP:20260419T125152Z
SUMMARY:Consultation Day: Transforming South West Enfield
DESCRIPTION:Saturday 9th March – 11.00am till 3.00pmTrinity at Bowes
  Centre Plus, Palmerston Road, N22 8RACome along and find out: - more
  about the North Circular Area Action Plan from Enfield Council staff 
 and our Neighbourhood Panel of local residents\n - how we are making 
 Enfield a better place to live, work, study and do business\n - how y
 ou can make the most of the services we provide\n - how our partner o
 rganisations can help to improve your life including health, training,
  employment and youth opportunities.FREE face painting and giveaways f
 or kids!For further information or questions contact Hyacinth Foster o
 n 020 8379 4296 or e-mail hyacinth.foster@enfield.gov.ukThe North Circ
 ular Area Action Plan can be viewed at www.enfield.gov.uk/NCAAP\n\nFor
  more information visit https://bowesandbounds.org/events/consultation
 -day-transforming-south-west-enfield
DTSTART;TZID=Europe/London:20130309T110000
DTEND;TZID=Europe/London:20130309T150000
CATEGORIES:"public meeting", consultation
LOCATION:TAB Centre
WEBSITE:https://maps.google.co.uk/maps?q=N22+8RA&hnear=N22+8RA,+United
 +Kingdom&t=m&z=16
URL:https://maps.google.co.uk/maps?q=N22+8RA&hnear=N22+8RA,+United+Kin
 gdom&t=m&z=16
CONTACT:
ORGANIZER;CN=Administrator:https://bowesandbounds.org/profile/Administ
 rator
ATTACH;FMTTYPE="image/jpeg":http://storage.ning.com/topology/rest/1.0/
 file/get/2063514585?profile=original
ATTENDEE;ROLE=REQ-PARTICIPANT;PARTSTAT=ACCEPTED;RSVP=TRUE;CN=Administr
 ator:https://bowesandbounds.org/profile/Administrator
END:VEVENT
END:VCALENDAR
