BEGIN:VCALENDAR
PRODID:NingEventWidget-v1
VERSION:2.0
METHOD:PUBLISH
BEGIN:VTIMEZONE
TZID:Europe/London
X-LIC-LOCATION:Europe/London
BEGIN:DAYLIGHT
TZOFFSETFROM:+0000
TZOFFSETTO:+0100
TZNAME:BST
DTSTART:19700329T010000
RRULE:FREQ=YEARLY;BYMONTH=3;BYDAY=-1SU
END:DAYLIGHT
BEGIN:STANDARD
TZOFFSETFROM:+0100
TZOFFSETTO:+0000
TZNAME:GMT
DTSTART:19701025T020000
RRULE:FREQ=YEARLY;BYMONTH=10;BYDAY=-1SU
END:STANDARD
END:VTIMEZONE
BEGIN:VEVENT
UID:6278630:Event:138533
DTSTAMP:20260419T145504Z
SUMMARY:Copper Viper at Bowes Park Folk Club
DESCRIPTION:Bluegrass vocal harmonies from London.\nRaffle and delicio
 us Mediterranean-inspired Mum's Bistro menu.Bounds Green tube (Piccadi
 lly Line) - 10 minutes' walkBowes Park overground station - 1 minute's
  walk.\n£7…\n\nFor more information visit https://bowesandbounds.or
 g/events/copper-viper-at-bowes-park-folk-club
DTSTART;TZID=Europe/London:20191107T194500
DTEND;TZID=Europe/London:20191107T230000
CATEGORIES:folk, "music/singing"
LOCATION:Mum's Bistro,
WEBSITE:
URL:
CONTACT:07774147296
ORGANIZER;CN="Anne Heagney":https://bowesandbounds.org/profile/AnneHea
 gney
ATTACH;FMTTYPE="image/jpeg":https://storage.ning.com/topology/rest/1.0
 /file/get/3646725817?profile=original
ATTENDEE;ROLE=REQ-PARTICIPANT;PARTSTAT=ACCEPTED;RSVP=TRUE;CN="Anne Hea
 gney":https://bowesandbounds.org/profile/AnneHeagney
END:VEVENT
END:VCALENDAR
