BEGIN:VCALENDAR
PRODID:NingEventWidget-v1
VERSION:2.0
METHOD:PUBLISH
BEGIN:VTIMEZONE
TZID:Europe/London
X-LIC-LOCATION:Europe/London
BEGIN:DAYLIGHT
TZOFFSETFROM:+0000
TZOFFSETTO:+0100
TZNAME:BST
DTSTART:19700329T010000
RRULE:FREQ=YEARLY;BYMONTH=3;BYDAY=-1SU
END:DAYLIGHT
BEGIN:STANDARD
TZOFFSETFROM:+0100
TZOFFSETTO:+0000
TZNAME:GMT
DTSTART:19701025T020000
RRULE:FREQ=YEARLY;BYMONTH=10;BYDAY=-1SU
END:STANDARD
END:VTIMEZONE
BEGIN:VEVENT
UID:6278630:Event:239466
DTSTAMP:20260421T233401Z
SUMMARY:Creative Writing Foundation Part 1, with Alison Chandler
DESCRIPTION:Starting to write is so much easier with a support network
 . We’ve put together a Creative Writing Foundation course to help yo
 u explore the tools available to you as a writer, with space to discus
 s, practice and gain confidence. All this in an environment designed t
 o support you as a human being as you reach for your pen or your keybo
 ard, and start to tell the stories you want to tell.\nWeek 1) Characte
 r-building. Week 2) Setting – where am I? Week 3) Dialogue – talk 
 to me. Week 4) Point of view – whose eyes am I looking through? Week
  5) Plot versus story. Structure. Week 6) Beginnings and endings.\nYou
  can progress to Creative Writing Foundation Part 2 in the second part
  of the Summer term. Sign up for both at once and avoid disappointment
 . You won’t need to pay for Part 2 until a month before it begins.\n
 Tuesdays 10.30am to 1.00pm. April 19, 26, May 3, 10, 17, 24\n£125. Em
 ail kate@collage-arts.org to enrol. \n\nFor more information visit h
 ttps://bowesandbounds.org/events/creative-writing-foundation-part-1-wi
 th-alison-chandler
DTSTART;TZID=Europe/London:20220419T103000
DTEND;TZID=Europe/London:20220419T130000
CATEGORIES:"start to write", "creative writing foundation", "online wr
 iting course", "beginners creative writing"
LOCATION:Zoom Online from Collage Writing Room
WEBSITE:http://collagewritingroom.com/summer-programme/
URL:http://collagewritingroom.com/summer-programme/
CONTACT:
ORGANIZER:Carmel for Collage Writing Room
ATTACH;FMTTYPE="image/jpeg":https://storage.ning.com/topology/rest/1.0
 /file/get/10241482871?profile=original
ATTENDEE;ROLE=REQ-PARTICIPANT;PARTSTAT=ACCEPTED;RSVP=TRUE;CN="c p shor
 tall":https://bowesandbounds.org/profile/3j09t7wiq9lkd
END:VEVENT
END:VCALENDAR
