BEGIN:VCALENDAR
PRODID:NingEventWidget-v1
VERSION:2.0
METHOD:PUBLISH
BEGIN:VTIMEZONE
TZID:Europe/London
X-LIC-LOCATION:Europe/London
BEGIN:DAYLIGHT
TZOFFSETFROM:+0000
TZOFFSETTO:+0100
TZNAME:BST
DTSTART:19700329T010000
RRULE:FREQ=YEARLY;BYMONTH=3;BYDAY=-1SU
END:DAYLIGHT
BEGIN:STANDARD
TZOFFSETFROM:+0100
TZOFFSETTO:+0000
TZNAME:GMT
DTSTART:19701025T020000
RRULE:FREQ=YEARLY;BYMONTH=10;BYDAY=-1SU
END:STANDARD
END:VTIMEZONE
BEGIN:VEVENT
UID:6278630:Event:238406
DTSTAMP:20260422T083705Z
SUMMARY:Creative Writing Foundation Part 2 with Alison Chandler
DESCRIPTION:Creative Writing Foundation Part 2 follows on from Part 1 
 but we can accommodate newcomers and you will be very welcome.\nCreati
 ve Writing Foundation Part 2 builds on the fundamentals of storytellin
 g, looking in more detail at ways to develop a sophisticated, full-len
 gth narrative. As with Part 1, the emphasis is on supporting you as a 
 writer in a friendly, positive and constructive environment where we a
 ll learn from each other.\nCreative Writing Foundation Part 2:\nWeek 7
 ) What kind of writer am I? A look at genre.\nWeek 8) Character relati
 onships – friends and enemies.\nWeek 9) Themes and motifs.\nWeek 10)
  Flash/short story/novella – thinking about form.\nWeek 11) Fiction 
 and life-writing, fiction in life-writing.\nWeek 12) Me and my reader.
 \nTuesday mornings, 10.30am to 1pm. Nov 2, 9, 16, 23, 30, Dec 7. Cost
  £125 (email kate@collage-arts.org to register and receive payment li
 nk)\nVirtual Writing Room via ZOOM video conference & correspondence.\
 nAutumn Programme 2021 – Collage Writing Room\n\nFor more informatio
 n visit https://bowesandbounds.org/events/creative-writing-foundation-
 part-2-with-alison-chandler
DTSTART;TZID=Europe/London:20211102T103000
DTEND;TZID=Europe/London:20211102T130000
CATEGORIES:"writing foundation course", "discover creative writing", "
 beginners' writing"
LOCATION:Zoom Online from Collage Writing Room
WEBSITE:http://collagewritingroom.com/autumn-programme/
URL:http://collagewritingroom.com/autumn-programme/
CONTACT:
ORGANIZER:Carmel for Collage Writing Room
ATTACH;FMTTYPE="image/jpeg":https://storage.ning.com/topology/rest/1.0
 /file/get/9737977067?profile=original
ATTENDEE;ROLE=REQ-PARTICIPANT;PARTSTAT=ACCEPTED;RSVP=TRUE;CN="c p shor
 tall":https://bowesandbounds.org/profile/3j09t7wiq9lkd
END:VEVENT
END:VCALENDAR
