BEGIN:VCALENDAR
PRODID:NingEventWidget-v1
VERSION:2.0
METHOD:PUBLISH
BEGIN:VTIMEZONE
TZID:Europe/London
X-LIC-LOCATION:Europe/London
BEGIN:DAYLIGHT
TZOFFSETFROM:+0000
TZOFFSETTO:+0100
TZNAME:BST
DTSTART:19700329T010000
RRULE:FREQ=YEARLY;BYMONTH=3;BYDAY=-1SU
END:DAYLIGHT
BEGIN:STANDARD
TZOFFSETFROM:+0100
TZOFFSETTO:+0000
TZNAME:GMT
DTSTART:19701025T020000
RRULE:FREQ=YEARLY;BYMONTH=10;BYDAY=-1SU
END:STANDARD
END:VTIMEZONE
BEGIN:VEVENT
UID:6278630:Event:131081
DTSTAMP:20260425T031214Z
SUMMARY:Cricket course for 5-8 Year Olds
DESCRIPTION:Get into Cricket with All Stars\nAll Stars Cricket provide
 s boys and girls from 5-8 years old with 8 weeks of non-stop fun. The 
 activity and game based programme is suitable for all skill levels, pr
 oviding your child with the foundations to begin a lifelong love of ph
 ysical activity and cricket, while making friends in a safe and enjoya
 ble environment.\n\nFor more information visit https://bowesandbounds.
 org/events/cricket-course-for-5-8-year-olds
DTSTART;TZID=Europe/London:20180513T090000
DTEND;TZID=Europe/London:20180513T100000
CATEGORIES:sports, coaching
LOCATION:Alexandra Park Cricket Club
WEBSITE:https://ecb.clubspark.uk/AllStars/At/alexandrapark
URL:https://ecb.clubspark.uk/AllStars/At/alexandrapark
CONTACT:
ORGANIZER;CN="Alistair Wilson":https://bowesandbounds.org/profile/Alis
 tairWilson
ATTACH;FMTTYPE="image/jpeg":
ATTENDEE;ROLE=REQ-PARTICIPANT;PARTSTAT=ACCEPTED;RSVP=TRUE;CN="Alistair
  Wilson":https://bowesandbounds.org/profile/AlistairWilson
END:VEVENT
END:VCALENDAR
