BEGIN:VCALENDAR
PRODID:NingEventWidget-v1
VERSION:2.0
METHOD:PUBLISH
BEGIN:VTIMEZONE
TZID:Europe/London
X-LIC-LOCATION:Europe/London
BEGIN:DAYLIGHT
TZOFFSETFROM:+0000
TZOFFSETTO:+0100
TZNAME:BST
DTSTART:19700329T010000
RRULE:FREQ=YEARLY;BYMONTH=3;BYDAY=-1SU
END:DAYLIGHT
BEGIN:STANDARD
TZOFFSETFROM:+0100
TZOFFSETTO:+0000
TZNAME:GMT
DTSTART:19701025T020000
RRULE:FREQ=YEARLY;BYMONTH=10;BYDAY=-1SU
END:STANDARD
END:VTIMEZONE
BEGIN:VEVENT
UID:6278630:Event:40565
DTSTAMP:20260426T052905Z
SUMMARY:Crown Making For Kids
DESCRIPTION:Crafty Jubilee Crown Making fun for kids with Amy Wear!\nS
 unday 3rd June, 3-5pm\n£1 per child to make their very own crown. Jus
 t drop-in and set the little one to enjoy some bejewelled crown crafti
 ng.\nWe have Jubilee inspired cakes, treats and beverages to keep ever
 ybody’s spirits up.\nNo need to book, just drop in at 3pm and we’l
 l do the rest.\n\nFor more information visit https://bowesandbounds.or
 g/events/crown-making-for-kids
DTSTART;TZID=Europe/London:20120603T150000
DTEND;TZID=Europe/London:20120603T170000
CATEGORIES:workshop, course, craft, social, kids
LOCATION:The Step
WEBSITE:http://www.thestep.co.uk/
URL:http://www.thestep.co.uk/
CONTACT:020 3302 2412
ORGANIZER;CN="Nell Riches":https://bowesandbounds.org/profile/NellRich
 es
ATTACH;FMTTYPE="image/jpeg":http://storage.ning.com/topology/rest/1.0/
 file/get/2287241647?profile=original
ATTENDEE;ROLE=REQ-PARTICIPANT;PARTSTAT=ACCEPTED;RSVP=TRUE;CN="Nell Ric
 hes":https://bowesandbounds.org/profile/NellRiches
END:VEVENT
END:VCALENDAR
