BEGIN:VCALENDAR
PRODID:NingEventWidget-v1
VERSION:2.0
METHOD:PUBLISH
BEGIN:VTIMEZONE
TZID:Europe/London
X-LIC-LOCATION:Europe/London
BEGIN:DAYLIGHT
TZOFFSETFROM:+0000
TZOFFSETTO:+0100
TZNAME:BST
DTSTART:19700329T010000
RRULE:FREQ=YEARLY;BYMONTH=3;BYDAY=-1SU
END:DAYLIGHT
BEGIN:STANDARD
TZOFFSETFROM:+0100
TZOFFSETTO:+0000
TZNAME:GMT
DTSTART:19701025T020000
RRULE:FREQ=YEARLY;BYMONTH=10;BYDAY=-1SU
END:STANDARD
END:VTIMEZONE
BEGIN:VEVENT
UID:6278630:Event:100610
DTSTAMP:20260425T211956Z
SUMMARY:Cycle Enfield :Campaign to Save Green Lanes
DESCRIPTION:One of a series of meetings to discuss the Cycle Enfield p
 roposals as they affect the A105\nBus Route 329 and Bus Route W6 stop 
 nearby\nVenue provides flat floor access and disabled facilities\n\nFo
 r more information visit https://bowesandbounds.org/events/cycle-enfie
 ld-campaign-to-save-green-lanes-1
DTSTART;TZID=Europe/London:20150922T200000
DTEND;TZID=Europe/London:20150922T210000
CATEGORIES:public, meeting
LOCATION:Intimate Theatre adjoining St Monicas Church
WEBSITE:
URL:
CONTACT:
ORGANIZER;CN="Donald Smith":https://bowesandbounds.org/profile/DonaldS
 mith
ATTACH;FMTTYPE="image/jpeg":
ATTENDEE;ROLE=REQ-PARTICIPANT;PARTSTAT=ACCEPTED;RSVP=TRUE;CN="Donald S
 mith":https://bowesandbounds.org/profile/DonaldSmith
END:VEVENT
END:VCALENDAR
