BEGIN:VCALENDAR
PRODID:NingEventWidget-v1
VERSION:2.0
METHOD:PUBLISH
BEGIN:VTIMEZONE
TZID:Europe/London
X-LIC-LOCATION:Europe/London
BEGIN:DAYLIGHT
TZOFFSETFROM:+0000
TZOFFSETTO:+0100
TZNAME:BST
DTSTART:19700329T010000
RRULE:FREQ=YEARLY;BYMONTH=3;BYDAY=-1SU
END:DAYLIGHT
BEGIN:STANDARD
TZOFFSETFROM:+0100
TZOFFSETTO:+0000
TZNAME:GMT
DTSTART:19701025T020000
RRULE:FREQ=YEARLY;BYMONTH=10;BYDAY=-1SU
END:STANDARD
END:VTIMEZONE
BEGIN:VEVENT
UID:6278630:Event:61618
DTSTAMP:20260421T021531Z
SUMMARY:Cycle Fun Day at Forty Hall
DESCRIPTION:Celebrate at our Cycle Fun Day with lots of family friendl
 y cycling activities!\n11am - 4pm. Sunday 28th July. Forty Hall Estate
 .\n\nFree cycle checks with Dr Bike\nTry a bike for free\nFamily frien
 dly bike ride  (Meet at 11:30am to set off at 12:00 book online)\nCycl
 ing advice and information\nCargo bike rides for children\nSit and wat
 ch the world cycle by from the Forty Hall cafe\n\nThis will be a great
  family day out with the chance to find out more about cycling in Enf
 ield .\n\nFor more information visit https://bowesandbounds.org/events
 /cycle-fun-day-at-forty-hall
DTSTART;TZID=Europe/London:20130728T110000
DTEND;TZID=Europe/London:20130728T160000
CATEGORIES:festival, cycling
LOCATION:Forty Hall
WEBSITE:http://www.enfield.gov.uk/news/article/788/on_your_bike_for_tw
 o_days_of_cycling_fun
URL:http://www.enfield.gov.uk/news/article/788/on_your_bike_for_two_da
 ys_of_cycling_fun
CONTACT:
ORGANIZER;CN=Administrator:https://bowesandbounds.org/profile/Administ
 rator
ATTACH;FMTTYPE="image/jpeg":http://storage.ning.com/topology/rest/1.0/
 file/get/2287250952?profile=original
ATTENDEE;ROLE=REQ-PARTICIPANT;PARTSTAT=ACCEPTED;RSVP=TRUE;CN=Administr
 ator:https://bowesandbounds.org/profile/Administrator
END:VEVENT
END:VCALENDAR
