BEGIN:VCALENDAR
PRODID:NingEventWidget-v1
VERSION:2.0
METHOD:PUBLISH
BEGIN:VTIMEZONE
TZID:Europe/London
X-LIC-LOCATION:Europe/London
BEGIN:DAYLIGHT
TZOFFSETFROM:+0000
TZOFFSETTO:+0100
TZNAME:BST
DTSTART:19700329T010000
RRULE:FREQ=YEARLY;BYMONTH=3;BYDAY=-1SU
END:DAYLIGHT
BEGIN:STANDARD
TZOFFSETFROM:+0100
TZOFFSETTO:+0000
TZNAME:GMT
DTSTART:19701025T020000
RRULE:FREQ=YEARLY;BYMONTH=10;BYDAY=-1SU
END:STANDARD
END:VTIMEZONE
BEGIN:VEVENT
UID:6278630:Event:80402
DTSTAMP:20260422T103053Z
SUMMARY:Public Meeting: Mini-Holland cycle scheme
DESCRIPTION:MINI-HOLLAND FOR ENFIELD\nPUBLIC MEETING\nA Discussion on 
 alternative approaches\nto revitalise Enfield Town Centre\nWed 30 July
 , 7.30pm\nCivic Centre Conference Room\nSpeaker: Ben Hamilton-Baillie\
 nTransport, Traffic and Urban Design Consultant\nSee his work 'Poynton
  Regenerated' on www.youtube.com/watch?v=-vzDDMzq7d0\nCome and help sh
 ape the changes to Enfield Town Centre\nHosted by Enfield Town Conserv
 ation Area Study Group (ETCASG)\n \n\nFor more information visit http
 s://bowesandbounds.org/events/david-hughes
DTSTART;TZID=Europe/London:20140730T193000
DTEND;TZID=Europe/London:20140730T220000
CATEGORIES:public, meeting
LOCATION:Enfield Civic Centre Conference Room
WEBSITE:
URL:
CONTACT:
ORGANIZER;CN="David Lionel Hughes":https://bowesandbounds.org/profile/
 DavidLionelHughes
ATTACH;FMTTYPE="image/jpeg":
ATTENDEE;ROLE=REQ-PARTICIPANT;PARTSTAT=ACCEPTED;RSVP=TRUE;CN="David Li
 onel Hughes":https://bowesandbounds.org/profile/DavidLionelHughes
END:VEVENT
END:VCALENDAR
