BEGIN:VCALENDAR
PRODID:NingEventWidget-v1
VERSION:2.0
METHOD:PUBLISH
BEGIN:VTIMEZONE
TZID:Europe/London
X-LIC-LOCATION:Europe/London
BEGIN:DAYLIGHT
TZOFFSETFROM:+0000
TZOFFSETTO:+0100
TZNAME:BST
DTSTART:19700329T010000
RRULE:FREQ=YEARLY;BYMONTH=3;BYDAY=-1SU
END:DAYLIGHT
BEGIN:STANDARD
TZOFFSETFROM:+0100
TZOFFSETTO:+0000
TZNAME:GMT
DTSTART:19701025T020000
RRULE:FREQ=YEARLY;BYMONTH=10;BYDAY=-1SU
END:STANDARD
END:VTIMEZONE
BEGIN:VEVENT
UID:6278630:Event:41352
DTSTAMP:20260426T024403Z
SUMMARY:Day Workshop: ‘Not Waving but Drowning: Not Drowning but Wav
 ing – the enigma of Stevie Smith’.
DESCRIPTION:Celebrating Palmers Green's famous Poet Stevie Smith: Day 
 Workshop with Katherine Gallagher, Saturday, 30th June 10.30 am – 16
 .30 pm  Themed workshop: ‘Not Waving but Drowning: Not Drowning but 
 Waving – the enigma of Stevie Smith’.\n Writing workshop: 10.30 am
  - 1 pm. Talk 'Who was Stevie?' plus questions and readings of poems :
  2.00 -4.30pm\nWriting workshop: £16, ( £13 conc.) Afternoon: £12 (
 £10 concs.) Full day:  £28 (£23 concs.) info: mail@katherine-gall
 agher.com 020 8881 1418\n\nFor more information visit https://bowesand
 bounds.org/events/day-workshop-not-waving-but-drowning-not-drowning-bu
 t-waving-the-
DTSTART;TZID=Europe/London:20120630T103000
DTEND;TZID=Europe/London:20120630T163000
CATEGORIES:creative
LOCATION:St John’s Parish Centre,
WEBSITE:http://www.katherine-gallagher.com/
URL:http://www.katherine-gallagher.com/
CONTACT:020 8881 1418
ORGANIZER;CN=Administrator:https://bowesandbounds.org/profile/Administ
 rator
ATTACH;FMTTYPE="image/jpeg":http://storage.ning.com/topology/rest/1.0/
 file/get/2287234625?profile=original
ATTENDEE;ROLE=REQ-PARTICIPANT;PARTSTAT=ACCEPTED;RSVP=TRUE;CN=Administr
 ator:https://bowesandbounds.org/profile/Administrator
END:VEVENT
END:VCALENDAR
