BEGIN:VCALENDAR
PRODID:NingEventWidget-v1
VERSION:2.0
METHOD:PUBLISH
BEGIN:VTIMEZONE
TZID:Europe/London
X-LIC-LOCATION:Europe/London
BEGIN:DAYLIGHT
TZOFFSETFROM:+0000
TZOFFSETTO:+0100
TZNAME:BST
DTSTART:19700329T010000
RRULE:FREQ=YEARLY;BYMONTH=3;BYDAY=-1SU
END:DAYLIGHT
BEGIN:STANDARD
TZOFFSETFROM:+0100
TZOFFSETTO:+0000
TZNAME:GMT
DTSTART:19701025T020000
RRULE:FREQ=YEARLY;BYMONTH=10;BYDAY=-1SU
END:STANDARD
END:VTIMEZONE
BEGIN:VEVENT
UID:6278630:Event:107551
DTSTAMP:20260424T000530Z
SUMMARY:Death Cafe
DESCRIPTION:Please join me for a Death Cafe. This has moved from Alexa
 ndra Park Library but is still run by Jan Williams. Cote have given us
  a nice private area at the back of the restaurant. I did ask to host 
 this at The Step but they could not accommodate it.\nCome to drink tea
  or coffee, eat cake and talk about death. After that the agenda is up
  to those who come! \nMore details of what to expect are on deathcaf
 e.com\n\nFor more information visit https://bowesandbounds.org/events/
 death-cafe-2
DTSTART;TZID=Europe/London:20160223T100000
DTEND;TZID=Europe/London:20160223T114500
CATEGORIES:free, discussion, event
LOCATION:Cote Brasserie Muswell Hill
WEBSITE:
URL:
CONTACT:
ORGANIZER;CN="Jan Williams":https://bowesandbounds.org/profile/JanWill
 iams
ATTACH;FMTTYPE="image/jpeg":
ATTENDEE;ROLE=REQ-PARTICIPANT;PARTSTAT=ACCEPTED;RSVP=TRUE;CN="Jan Will
 iams":https://bowesandbounds.org/profile/JanWilliams
END:VEVENT
END:VCALENDAR
