BEGIN:VCALENDAR
PRODID:NingEventWidget-v1
VERSION:2.0
METHOD:PUBLISH
BEGIN:VTIMEZONE
TZID:Europe/London
X-LIC-LOCATION:Europe/London
BEGIN:DAYLIGHT
TZOFFSETFROM:+0000
TZOFFSETTO:+0100
TZNAME:BST
DTSTART:19700329T010000
RRULE:FREQ=YEARLY;BYMONTH=3;BYDAY=-1SU
END:DAYLIGHT
BEGIN:STANDARD
TZOFFSETFROM:+0100
TZOFFSETTO:+0000
TZNAME:GMT
DTSTART:19701025T020000
RRULE:FREQ=YEARLY;BYMONTH=10;BYDAY=-1SU
END:STANDARD
END:VTIMEZONE
BEGIN:VEVENT
UID:6278630:Event:239418
DTSTAMP:20260422T022142Z
SUMMARY:Defend Enfield NHS
DESCRIPTION:This is an outdoor event at Palmers Green Triangle in supp
 ort of the NHS. Please come and join our leafletting session between 1
 1am and 1pm in support of the nationwide Day of Action \n\nFor more i
 nformation visit https://bowesandbounds.org/events/defend-enfield-nhs
DTSTART;TZID=Europe/London:20220226T110000
DTEND;TZID=Europe/London:20220226T130000
CATEGORIES:leafletting
LOCATION:N13 Palmers Green Triangle
WEBSITE:
URL:
CONTACT:07912361631
ORGANIZER;CN="Sue Davies":https://bowesandbounds.org/profile/SueDavies
ATTACH;FMTTYPE="image/jpeg":https://storage.ning.com/topology/rest/1.0
 /file/get/10139702888?profile=original
ATTENDEE;ROLE=REQ-PARTICIPANT;PARTSTAT=ACCEPTED;RSVP=TRUE;CN="Sue Davi
 es":https://bowesandbounds.org/profile/SueDavies
END:VEVENT
END:VCALENDAR
