BEGIN:VCALENDAR
PRODID:NingEventWidget-v1
VERSION:2.0
METHOD:PUBLISH
BEGIN:VTIMEZONE
TZID:Europe/London
X-LIC-LOCATION:Europe/London
BEGIN:DAYLIGHT
TZOFFSETFROM:+0000
TZOFFSETTO:+0100
TZNAME:BST
DTSTART:19700329T010000
RRULE:FREQ=YEARLY;BYMONTH=3;BYDAY=-1SU
END:DAYLIGHT
BEGIN:STANDARD
TZOFFSETFROM:+0100
TZOFFSETTO:+0000
TZNAME:GMT
DTSTART:19701025T020000
RRULE:FREQ=YEARLY;BYMONTH=10;BYDAY=-1SU
END:STANDARD
END:VTIMEZONE
BEGIN:VEVENT
UID:6278630:Event:250750
DTSTAMP:20260421T164138Z
SUMMARY:Dhiraj Kainth Quartet
DESCRIPTION:\n\"The Dhiraj Kainth Quartet is a dynamic ensemble which 
 blends original compositions alongside classic jazz standards to creat
 e a captivating sound. Led by guitarist Dhiraj Kainth, the quartet fea
 tures a talented group of young musicians from the Guildhall School of
  Music & Drama: Lior Solomons-Wise on piano, Ben Lammin on double bass
 , and Chris Davis on drums.\nRecent highlights for the quartet include
  performing in the Barbican Centre Foyer as a warmup act for the Jazz 
 at Lincoln Centre Orchestra led by Wynton Marsalis and recording and r
 eleasing Dhiraj's original composition titled 'Emerge'.\"\nKaramel - 4
  Coburg Road, London N22 6UJ. The Karamel vegan kitchen will be servin
 g food until 9.30pm. Email karamel8775@gmail.com to book a table for g
 roups of 3+.\nDoors open 7pm, music starts at 8pm.\n£7.50 Early Bird 
 £10 General Admission £5 Student\n\nFor more information visit https
 ://bowesandbounds.org/events/dhiraj-kainth-quartet
DTSTART;TZID=Europe/London:20250614T190000
DTEND;TZID=Europe/London:20250614T220000
CATEGORIES:jazz, veganvenue, veganfood, livemusic
LOCATION:karamel, 4 Coburg Road, Wood Green, London N22 6UJ
WEBSITE:https://www.musicglue.com/karamel/events/2025-06-14-dhiraj-kai
 nth-quartet-karamel
URL:https://www.musicglue.com/karamel/events/2025-06-14-dhiraj-kainth-
 quartet-karamel
CONTACT:
ORGANIZER;CN="Collage Artspaces":https://bowesandbounds.org/profile/Co
 llage_Arts
ATTACH;FMTTYPE="image/jpeg":https://storage.ning.com/topology/rest/1.0
 /file/get/13544010073?profile=original
ATTENDEE;ROLE=REQ-PARTICIPANT;PARTSTAT=ACCEPTED;RSVP=TRUE;CN="Collage 
 Artspaces":https://bowesandbounds.org/profile/Collage_Arts
END:VEVENT
END:VCALENDAR
