BEGIN:VCALENDAR
PRODID:NingEventWidget-v1
VERSION:2.0
METHOD:PUBLISH
BEGIN:VTIMEZONE
TZID:Europe/London
X-LIC-LOCATION:Europe/London
BEGIN:DAYLIGHT
TZOFFSETFROM:+0000
TZOFFSETTO:+0100
TZNAME:BST
DTSTART:19700329T010000
RRULE:FREQ=YEARLY;BYMONTH=3;BYDAY=-1SU
END:DAYLIGHT
BEGIN:STANDARD
TZOFFSETFROM:+0100
TZOFFSETTO:+0000
TZNAME:GMT
DTSTART:19701025T020000
RRULE:FREQ=YEARLY;BYMONTH=10;BYDAY=-1SU
END:STANDARD
END:VTIMEZONE
BEGIN:VEVENT
UID:6278630:Event:136213
DTSTAMP:20260420T031855Z
SUMMARY:Die-In in Muswell Hill - 13 April
DESCRIPTION:Come and join Muswell Hill Sustainability Group and Extinc
 tion Rebellion Haringey for a Die-In symbolising current and future de
 aths caused by climate breakdown and ecological collapse.\nFollowed by
  a debate about Haringey in a time of Climate Emergency at the British
  Legion; speakers include our MP Catherine West.\n\nFor more informati
 on visit https://bowesandbounds.org/events/die-in-in-muswell-hill-13-a
 pril
DTSTART;TZID=Europe/London:20190413T110000
DTEND;TZID=Europe/London:20190413T130000
CATEGORIES:campaign, debate
LOCATION:St James' Square (outside Planet Organic), Muswell Hill
WEBSITE:
URL:
CONTACT:
ORGANIZER;CN="Annabel Gregory":https://bowesandbounds.org/profile/Anna
 belGregory
ATTACH;FMTTYPE="image/jpeg":https://storage.ning.com/topology/rest/1.0
 /file/get/1746390397?profile=original
ATTENDEE;ROLE=REQ-PARTICIPANT;PARTSTAT=ACCEPTED;RSVP=TRUE;CN="Annabel 
 Gregory":https://bowesandbounds.org/profile/AnnabelGregory
END:VEVENT
END:VCALENDAR
