BEGIN:VCALENDAR
PRODID:NingEventWidget-v1
VERSION:2.0
METHOD:PUBLISH
BEGIN:VTIMEZONE
TZID:Europe/London
X-LIC-LOCATION:Europe/London
BEGIN:DAYLIGHT
TZOFFSETFROM:+0000
TZOFFSETTO:+0100
TZNAME:BST
DTSTART:19700329T010000
RRULE:FREQ=YEARLY;BYMONTH=3;BYDAY=-1SU
END:DAYLIGHT
BEGIN:STANDARD
TZOFFSETFROM:+0100
TZOFFSETTO:+0000
TZNAME:GMT
DTSTART:19701025T020000
RRULE:FREQ=YEARLY;BYMONTH=10;BYDAY=-1SU
END:STANDARD
END:VTIMEZONE
BEGIN:VEVENT
UID:6278630:Event:50419
DTSTAMP:20260419T131559Z
SUMMARY:Discovering London Talk
DESCRIPTION:Next in the series of our London talks with Peter Berthoud
 , a London Guide and Writer. On the first Thursday of each month he lo
 oks at an unusual aspect of London’s history.\nThe third talk will b
 e A Virtual Walk on The Strand, looking at some of the oddities to be 
 found on and around Strand.\nThursday 6th December, 12-1pm\nAs you tra
 vel along this former beach you will see, London’s, possibly the wor
 ld’s, first wine bar, the scene of an elephant’s execution and the
  oldest family-run shop of its type on earth. You will also see a biza
 rre sculpture that most people have never noticed, a back-to-front chu
 rch and the city’s largest clock face… no, not that one!\nYou will
  also learn about the death of the bowler hat, the birth of blue plaqu
 es, see a Victorian “Apps Store” and a steeple that should never h
 ave been and we’ll finish our tour in the close company of Dracula.\
 nThe talk will last an hour including an opportunity to ask questions 
 and to look at some rare books. You can also enjoy a drink or a snack 
 during or after the talk if you like.\nThe price for each talk is £5.
 00 or £3.50 for concessions.\nTo book a place for the second Discover
 ing London at The Step please pop in or contact us by phone or email. 
 Alternatively you can book online by CLICKING HERE.\n\nFor more inform
 ation visit https://bowesandbounds.org/events/discovering-london-talk-
 2
DTSTART;TZID=Europe/London:20121206T120000
DTEND;TZID=Europe/London:20121206T130000
CATEGORIES:talk, lecture, workshop
LOCATION:The Step
WEBSITE:http://www.thestep.co.uk
URL:http://www.thestep.co.uk
CONTACT:020 3302 2412
ORGANIZER;CN="Nell Riches":https://bowesandbounds.org/profile/NellRich
 es
ATTACH;FMTTYPE="image/jpeg":http://storage.ning.com/topology/rest/1.0/
 file/get/2287239842?profile=original
ATTENDEE;ROLE=REQ-PARTICIPANT;PARTSTAT=ACCEPTED;RSVP=TRUE;CN="Jackie M
 orten":https://bowesandbounds.org/profile/JackieMorten
ATTENDEE;ROLE=REQ-PARTICIPANT;PARTSTAT=ACCEPTED;RSVP=TRUE;CN="Nell Ric
 hes":https://bowesandbounds.org/profile/NellRiches
END:VEVENT
END:VCALENDAR
