BEGIN:VCALENDAR
PRODID:NingEventWidget-v1
VERSION:2.0
METHOD:PUBLISH
BEGIN:VTIMEZONE
TZID:Europe/London
X-LIC-LOCATION:Europe/London
BEGIN:DAYLIGHT
TZOFFSETFROM:+0000
TZOFFSETTO:+0100
TZNAME:BST
DTSTART:19700329T010000
RRULE:FREQ=YEARLY;BYMONTH=3;BYDAY=-1SU
END:DAYLIGHT
BEGIN:STANDARD
TZOFFSETFROM:+0100
TZOFFSETTO:+0000
TZNAME:GMT
DTSTART:19701025T020000
RRULE:FREQ=YEARLY;BYMONTH=10;BYDAY=-1SU
END:STANDARD
END:VTIMEZONE
BEGIN:VEVENT
UID:6278630:Event:46059
DTSTAMP:20260426T042755Z
SUMMARY:Discovering London Talk
DESCRIPTION:In October The Step is launching a new series of London ta
 lks with Peter Berthoud, a London Guide and Writer.\nOn the first Thur
 sday of each month Peter will be looking at an unusual aspect of Londo
 n’s history. The first talk will be on London as it Might Have Been.
 \nHe will be sharing images of the sometimes visionary, sometimes just
  plain bizarre ideas that architects, planners and others have had to 
 “improve” the city over the years. A square Piccadilly Circus, a t
 ideless Thames, monorails and urban airports, new bridges, grand vista
 s and a rather morbid pyramid are just some of the schemes that never 
 quite got off the ground.\nThe talk will last an hour including an opp
 ortunity to ask questions and to look at some original plans. We’re 
 also putting on lots of Undiscovered London food and drink deals to ke
 ep the little grey cells ticking.\nDiscovering London at The Step talk
 s will be taking place on the first Thursday of the month at 12 noon. 
 The price for each talk is £5.00 or £3.50 for concessions.\nTo book 
 a place for the first Discovering London at The Step talk please CLICK
  HERE or pop into The Step.\nLondon as it Might Have Been Thursday 4th
  October, 12-1pm\n\nFor more information visit https://bowesandbounds.
 org/events/discovering-london-talk
DTSTART;TZID=Europe/London:20121004T120000
DTEND;TZID=Europe/London:20121004T130000
CATEGORIES:talk, lecture, workshop
LOCATION:The Step
WEBSITE:http://www.thestep.co.uk/events/
URL:http://www.thestep.co.uk/events/
CONTACT:020 3302 2412
ORGANIZER;CN="Nell Riches":https://bowesandbounds.org/profile/NellRich
 es
ATTACH;FMTTYPE="image/jpeg":http://storage.ning.com/topology/rest/1.0/
 file/get/2287237457?profile=original
ATTENDEE;ROLE=REQ-PARTICIPANT;PARTSTAT=ACCEPTED;RSVP=TRUE;CN="Richard 
 McKeever":https://bowesandbounds.org/profile/3hwxkqhdde8gc
ATTENDEE;ROLE=REQ-PARTICIPANT;PARTSTAT=ACCEPTED;RSVP=TRUE;CN="Nell Ric
 hes":https://bowesandbounds.org/profile/NellRiches
ATTENDEE;ROLE=REQ-PARTICIPANT;PARTSTAT=TENTATIVE;RSVP=TRUE;CN="Jackie 
 Morten":https://bowesandbounds.org/profile/JackieMorten
END:VEVENT
END:VCALENDAR
