BEGIN:VCALENDAR
PRODID:NingEventWidget-v1
VERSION:2.0
METHOD:PUBLISH
BEGIN:VTIMEZONE
TZID:Europe/London
X-LIC-LOCATION:Europe/London
BEGIN:DAYLIGHT
TZOFFSETFROM:+0000
TZOFFSETTO:+0100
TZNAME:BST
DTSTART:19700329T010000
RRULE:FREQ=YEARLY;BYMONTH=3;BYDAY=-1SU
END:DAYLIGHT
BEGIN:STANDARD
TZOFFSETFROM:+0100
TZOFFSETTO:+0000
TZNAME:GMT
DTSTART:19701025T020000
RRULE:FREQ=YEARLY;BYMONTH=10;BYDAY=-1SU
END:STANDARD
END:VTIMEZONE
BEGIN:VEVENT
UID:6278630:Event:118218
DTSTAMP:20260420T052951Z
SUMMARY:Do You Hear What I Hear? Vintage & Designers' Fair at the Cast
 le
DESCRIPTION:Have you heard? You can shop early for Christmas at the Vi
 ntage and Designers' Fair at the Castle for wonderful unique gifts fro
 m over 30 fantastic stalls selling original vintage clothes, jewellery
 , accessories, handbags, collectables, prints, furniture, toys, kitche
 nalia and china, trunks and suitcases, alongside beautiful handmade vi
 ntage-inspired gifts, chutneys and jams.\nVintage cafe open all day se
 lling tea, scrummy home-made cake and sandwiches.\nEntrance on the doo
 r: £1.50 (accompanied kids free).\n\n\nFor more information visit htt
 ps://bowesandbounds.org/events/do-you-hear-what-i-hear-vintage-designe
 rs-fair-at-the-castle
DTSTART;TZID=Europe/London:20161126T103000
DTEND;TZID=Europe/London:20161126T163000
CATEGORIES:vintage, fair, christmas, craft, vintage-inspired, antiques
LOCATION:Bruce Castle Museum
WEBSITE:http://haringey.gov.uk/brucecastlemuseum
URL:http://haringey.gov.uk/brucecastlemuseum
CONTACT:020 8808 8772
ORGANIZER;CN="Deborah Hedgecock":https://bowesandbounds.org/profile/De
 borahHedgecock
ATTACH;FMTTYPE="image/jpeg":http://storage.ning.com/topology/rest/1.0/
 file/get/2287314381?profile=original
ATTENDEE;ROLE=REQ-PARTICIPANT;PARTSTAT=ACCEPTED;RSVP=TRUE;CN="Deborah 
 Hedgecock":https://bowesandbounds.org/profile/DeborahHedgecock
END:VEVENT
END:VCALENDAR
