BEGIN:VCALENDAR
PRODID:NingEventWidget-v1
VERSION:2.0
METHOD:PUBLISH
BEGIN:VTIMEZONE
TZID:Europe/London
X-LIC-LOCATION:Europe/London
BEGIN:DAYLIGHT
TZOFFSETFROM:+0000
TZOFFSETTO:+0100
TZNAME:BST
DTSTART:19700329T010000
RRULE:FREQ=YEARLY;BYMONTH=3;BYDAY=-1SU
END:DAYLIGHT
BEGIN:STANDARD
TZOFFSETFROM:+0100
TZOFFSETTO:+0000
TZNAME:GMT
DTSTART:19701025T020000
RRULE:FREQ=YEARLY;BYMONTH=10;BYDAY=-1SU
END:STANDARD
END:VTIMEZONE
BEGIN:VEVENT
UID:6278630:Event:121320
DTSTAMP:20260424T223610Z
SUMMARY:Dorance Lorza & Sexteto Cafe
DESCRIPTION:Dorance Lorza & Sexteto Cafe have been one of the leading 
 bands in the vibrant and exciting London salsa scene since they formed
  in 1996. Pioneering the worldwide “salsa con vibes” revival of th
 e late 1990s, they were one of the first bands in Europe to favour the
  small combo salsa sound of 1960s/1970s bands like Joe Cuba Sextet/ Ne
 w Swing Sextet/Pete Terrace Combo rather than that of the more common 
 big brass-heavy salsa orchestras of the day.\nOver the years, they hav
 e become one of the most popular and booked salsa bands in the UK and 
 have been featured at many prestigious salsa congresses and jazz festi
 vals .\n\n\nTickets are £12 OTD/£10 limited early bird tickets from 
 www.karamel.london\n\n\n\nFor more information visit https://bowesandb
 ounds.org/events/dorance-lorza-sexteto-cafe
DTSTART;TZID=Europe/London:20170301T190000
DTEND;TZID=Europe/London:20170301T230000
CATEGORIES:"'karamel'", "'music'", "'music", at, "karamel'", "'karamel
 ", "music'", "'salsa'", "'salsa"
LOCATION:Karamel
WEBSITE:http://www.karamel.london
URL:http://www.karamel.london
CONTACT:0208 829 8989
ORGANIZER:Karamel
ATTACH;FMTTYPE="image/jpeg":http://storage.ning.com/topology/rest/1.0/
 file/get/2287318098?profile=original
ATTENDEE;ROLE=REQ-PARTICIPANT;PARTSTAT=ACCEPTED;RSVP=TRUE;CN="Events a
 t Karamel":https://bowesandbounds.org/profile/PhilSherman
END:VEVENT
END:VCALENDAR
