BEGIN:VCALENDAR
PRODID:NingEventWidget-v1
VERSION:2.0
METHOD:PUBLISH
BEGIN:VTIMEZONE
TZID:Europe/London
X-LIC-LOCATION:Europe/London
BEGIN:DAYLIGHT
TZOFFSETFROM:+0000
TZOFFSETTO:+0100
TZNAME:BST
DTSTART:19700329T010000
RRULE:FREQ=YEARLY;BYMONTH=3;BYDAY=-1SU
END:DAYLIGHT
BEGIN:STANDARD
TZOFFSETFROM:+0100
TZOFFSETTO:+0000
TZNAME:GMT
DTSTART:19701025T020000
RRULE:FREQ=YEARLY;BYMONTH=10;BYDAY=-1SU
END:STANDARD
END:VTIMEZONE
BEGIN:VEVENT
UID:6278630:Event:239538
DTSTAMP:20260421T221256Z
SUMMARY:Drop-in Kids Crafting Sessions!
DESCRIPTION:Craft with your kids this Easter at Stitch!\n£4.00 per ch
 ild per activity\nAre you looking for something crafty to do in the Ea
 ster holidays? We at Stitch are offering a drop in session for you to 
 come in and do crafts with your little ones. Come and have a laugh, ma
 ke a special keepsake you can keep or give as a gift to someone specia
 l. (This is not a workshop)\nThere will be four sessions:\nWednesday 6
 th April 11am - 1pm: Egg Carton spring flower wreath\nThursday 7th Apr
 il 11am - 4pm: Cardboard animal crafts\nWednesday 13th April 11am - 1p
 m: Yarn sunshine crafts\nThursday 14th April 11am - 4pm: Yarn wrapped 
 flowers\nYou don’t need to bring anything just yourselves. This is 
 a drop-in session with your child, no need to book in advance (childre
 n are not allowed to be left unattended at anytime).\nCost: £4.00 per
  session per child\nLOCATION; Stitch Crafts and Classes, 364 Green Lan
 es, (inside Post Office entrance) Palmers Green, N13 5XL\nAge suitabil
 ity- 4-12 years old\nPlease ensure you have read fully our terms and c
 onditions. Children should be accompanied by an adult.\nHealth & Safet
 y class guidelines in light of Covid:If you have displayed any Covid s
 ymptoms in the last 14 days, are awaiting test results, are in quarant
 ine or have come into contact with someone with Covid then please do n
 ot attend. We will update this advice regularly in line with governmen
 t recommendations. Thank you for your patience and for bearing with us
 .\n\n\n\n\n\n\nFor more information visit https://bowesandbounds.org/e
 vents/drop-in-kids-crafting-sessions-1
DTSTART;TZID=Europe/London:20220414T110000
DTEND;TZID=Europe/London:20220414T160000
CATEGORIES:kids, crafts
LOCATION:Stitch Crafts and Classes, 364 Green Lanes, (inside Post Offi
 ce entrance) Palmers Green, N13 5XL
WEBSITE:https://www.stitch.org.uk/
URL:https://www.stitch.org.uk/
CONTACT:07903 614726
ORGANIZER;CN="Suzanne Kelly":https://bowesandbounds.org/profile/Suzann
 eKelly
ATTACH;FMTTYPE="image/jpeg":https://storage.ning.com/topology/rest/1.0
 /file/get/10265927496?profile=original
ATTENDEE;ROLE=REQ-PARTICIPANT;PARTSTAT=ACCEPTED;RSVP=TRUE;CN="Suzanne 
 Kelly":https://bowesandbounds.org/profile/SuzanneKelly
END:VEVENT
END:VCALENDAR
