BEGIN:VCALENDAR
PRODID:NingEventWidget-v1
VERSION:2.0
METHOD:PUBLISH
BEGIN:VTIMEZONE
TZID:Europe/London
X-LIC-LOCATION:Europe/London
BEGIN:DAYLIGHT
TZOFFSETFROM:+0000
TZOFFSETTO:+0100
TZNAME:BST
DTSTART:19700329T010000
RRULE:FREQ=YEARLY;BYMONTH=3;BYDAY=-1SU
END:DAYLIGHT
BEGIN:STANDARD
TZOFFSETFROM:+0100
TZOFFSETTO:+0000
TZNAME:GMT
DTSTART:19701025T020000
RRULE:FREQ=YEARLY;BYMONTH=10;BYDAY=-1SU
END:STANDARD
END:VTIMEZONE
BEGIN:VEVENT
UID:6278630:Event:90756
DTSTAMP:20260422T151507Z
SUMMARY:Drop-in Watercolour Classes at Lordship Hub
DESCRIPTION:Our daytime drop-in class watercolour painting class is he
 ld every Monday at the lottery funded environmentally 'green' communit
 y building, the Lordship Hub Co-op in the middle of the regenerated Lo
 rdship Rec park.\nSuitable for all levels including absolute beginners
 !\nTutors are hand to provide advice and guidance on how to get starte
 d in watercolour.Â \n11am - 1pmÂ  Classes are Â£7\nPrice includes pain
 ts and brushes.Â  Paper and pencils available to buy.\nSnacks and refr
 eshments available to buy from on-site cafe.\nNO NEED TO BOOK JUST DRO
 P IN!\nTimetable:Â www.tottenhamartclasses.co.uk/timetable.php\nTube:Â
  Turnpike Lane, Wood Green, Seven SistersÂ  Rail:Â Bruce GroveÂ  Buses
 :Â 123, 243Â (Stop - Waltheof Avenue)Â  W4Â (Stop - Higham Road)\nWebs
 ite:Â www.tottenhamartclasses.co.uk Email:Â info@tottenhamartclasses.c
 o.uk Twitter:Â www.twitter.com/tottenhamarts\nFacebook:Â www.facebook.
 com/tottenhamartclasses\n\nFor more information visit https://bowesand
 bounds.org/events/drop-in-watercolour-classes-at-lordship-hub-2
DTSTART;TZID=Europe/London:20150316T110000
DTEND;TZID=Europe/London:20150316T130000
CATEGORIES:art, watercolour, class, tottenham
LOCATION:Lordship Hub
WEBSITE:http://www.tottenhamartclasses.co.uk
URL:http://www.tottenhamartclasses.co.uk
CONTACT:
ORGANIZER;CN="Tottenham Art Classes":https://bowesandbounds.org/profil
 e/TottenhamArtClasses
ATTACH;FMTTYPE="image/jpeg":http://storage.ning.com/topology/rest/1.0/
 file/get/2287278044?profile=original
ATTENDEE;ROLE=REQ-PARTICIPANT;PARTSTAT=ACCEPTED;RSVP=TRUE;CN="Tottenha
 m Art Classes":https://bowesandbounds.org/profile/TottenhamArtClasses
END:VEVENT
END:VCALENDAR
