BEGIN:VCALENDAR
PRODID:NingEventWidget-v1
VERSION:2.0
METHOD:PUBLISH
BEGIN:VTIMEZONE
TZID:Europe/London
X-LIC-LOCATION:Europe/London
BEGIN:DAYLIGHT
TZOFFSETFROM:+0000
TZOFFSETTO:+0100
TZNAME:BST
DTSTART:19700329T010000
RRULE:FREQ=YEARLY;BYMONTH=3;BYDAY=-1SU
END:DAYLIGHT
BEGIN:STANDARD
TZOFFSETFROM:+0100
TZOFFSETTO:+0000
TZNAME:GMT
DTSTART:19701025T020000
RRULE:FREQ=YEARLY;BYMONTH=10;BYDAY=-1SU
END:STANDARD
END:VTIMEZONE
BEGIN:VEVENT
UID:6278630:Event:253138
DTSTAMP:20260422T024431Z
SUMMARY:Easter Eve Fun Afternoon
DESCRIPTION:You're invited to our Easter Eve Fun Afternoon!\n\nEaster 
 Egg Hunt\nEgg Rolling\nCraft Corner\nGames\nRefreshments\n\nIf it's we
 t, we'll just move indoors. This event is free and open to all the fam
 ily. There's no need to book in advance – just pop along!\n\n\nFor m
 ore information visit https://bowesandbounds.org/events/easter-eve-fun
 -afternoon
DTSTART;TZID=Europe/London:20260404T140000
DTEND;TZID=Europe/London:20260404T160000
CATEGORIES:free, family, fun, easter
LOCATION:Muswell Hill Methodist Church
WEBSITE:https://mhmc.org.uk/
URL:https://mhmc.org.uk/
CONTACT:020 8365 2466
ORGANIZER;CN="Penny Woods":https://bowesandbounds.org/profile/PennyWoo
 ds
ATTACH;FMTTYPE="image/jpeg":https://storage.ning.com/topology/rest/1.0
 /file/get/31126370467?profile=original
ATTENDEE;ROLE=REQ-PARTICIPANT;PARTSTAT=ACCEPTED;RSVP=TRUE;CN="Penny Wo
 ods":https://bowesandbounds.org/profile/PennyWoods
END:VEVENT
END:VCALENDAR
