BEGIN:VCALENDAR
PRODID:NingEventWidget-v1
VERSION:2.0
METHOD:PUBLISH
BEGIN:VTIMEZONE
TZID:Europe/London
X-LIC-LOCATION:Europe/London
BEGIN:DAYLIGHT
TZOFFSETFROM:+0000
TZOFFSETTO:+0100
TZNAME:BST
DTSTART:19700329T010000
RRULE:FREQ=YEARLY;BYMONTH=3;BYDAY=-1SU
END:DAYLIGHT
BEGIN:STANDARD
TZOFFSETFROM:+0100
TZOFFSETTO:+0000
TZNAME:GMT
DTSTART:19701025T020000
RRULE:FREQ=YEARLY;BYMONTH=10;BYDAY=-1SU
END:STANDARD
END:VTIMEZONE
BEGIN:VEVENT
UID:6278630:Event:253060
DTSTAMP:20260422T022142Z
SUMMARY:Easter Family Fun
DESCRIPTION:Head to Muswell Hill Methodist Church tomorrow (Thursday 2
 nd April, 2-5pm) for egg painting, an Easter egg hunt, a children's an
 imator and refreshments.\n\n\n\nThis event is organised by the Haringe
 y Resettlement Team, supporting refugees in Haringey. All are welcome 
 to get to know refugees in our local area.\n\n\n\nFor more information
  visit https://bowesandbounds.org/events/easter-family-fun
DTSTART;TZID=Europe/London:20260402T140000
DTEND;TZID=Europe/London:20260402T170000
CATEGORIES:free, family, fun, refugees, easter
LOCATION:Muswell Hill Methodist Church
WEBSITE:https://mhmc.org.uk/
URL:https://mhmc.org.uk/
CONTACT:020 8365 2466
ORGANIZER;CN="Penny Woods":https://bowesandbounds.org/profile/PennyWoo
 ds
ATTACH;FMTTYPE="image/jpeg":https://storage.ning.com/topology/rest/1.0
 /file/get/31126369875?profile=original
ATTENDEE;ROLE=REQ-PARTICIPANT;PARTSTAT=ACCEPTED;RSVP=TRUE;CN="Penny Wo
 ods":https://bowesandbounds.org/profile/PennyWoods
END:VEVENT
END:VCALENDAR
