BEGIN:VCALENDAR
PRODID:NingEventWidget-v1
VERSION:2.0
METHOD:PUBLISH
BEGIN:VTIMEZONE
TZID:Europe/London
X-LIC-LOCATION:Europe/London
BEGIN:DAYLIGHT
TZOFFSETFROM:+0000
TZOFFSETTO:+0100
TZNAME:BST
DTSTART:19700329T010000
RRULE:FREQ=YEARLY;BYMONTH=3;BYDAY=-1SU
END:DAYLIGHT
BEGIN:STANDARD
TZOFFSETFROM:+0100
TZOFFSETTO:+0000
TZNAME:GMT
DTSTART:19701025T020000
RRULE:FREQ=YEARLY;BYMONTH=10;BYDAY=-1SU
END:STANDARD
END:VTIMEZONE
BEGIN:VEVENT
UID:6278630:Event:47485
DTSTAMP:20260425T233956Z
SUMMARY:Easy Home Energy-saving Advice Evening
DESCRIPTION:Whether you own or rent, come to find out how to make you
  home more energy-efficient, comfortable, and cheap to run.\nHear how 
 to understand your fuel bills, switch energy supplier, cut costs and i
 nstall simple draughtproofing.\nFree admission and refreshments.  Cut
 -price energy-saving products for sale.\nPhone 07772 238214 or e-mail 
 mary@mhsgroup.org to book your place.\n \n \n \n \n \n\nFor more 
 information visit https://bowesandbounds.org/events/easy-home-energy-s
 aving-advice-evening-mon-8th-october
DTSTART;TZID=Europe/London:20121008T193000
DTEND;TZID=Europe/London:20121008T213000
CATEGORIES:home, energy, advice, evening
LOCATION:Turkish Cypriot Community Association
WEBSITE:
URL:
CONTACT:07772 238214
ORGANIZER;CN="Mary Blake":https://bowesandbounds.org/profile/MaryBlake
ATTACH;FMTTYPE="image/jpeg":
ATTENDEE;ROLE=REQ-PARTICIPANT;PARTSTAT=ACCEPTED;RSVP=TRUE;CN="Mary Bla
 ke":https://bowesandbounds.org/profile/MaryBlake
END:VEVENT
END:VCALENDAR
