BEGIN:VCALENDAR
PRODID:NingEventWidget-v1
VERSION:2.0
METHOD:PUBLISH
BEGIN:VTIMEZONE
TZID:Europe/London
X-LIC-LOCATION:Europe/London
BEGIN:DAYLIGHT
TZOFFSETFROM:+0000
TZOFFSETTO:+0100
TZNAME:BST
DTSTART:19700329T010000
RRULE:FREQ=YEARLY;BYMONTH=3;BYDAY=-1SU
END:DAYLIGHT
BEGIN:STANDARD
TZOFFSETFROM:+0100
TZOFFSETTO:+0000
TZNAME:GMT
DTSTART:19701025T020000
RRULE:FREQ=YEARLY;BYMONTH=10;BYDAY=-1SU
END:STANDARD
END:VTIMEZONE
BEGIN:VEVENT
UID:6278630:Event:123257
DTSTAMP:20260425T000405Z
SUMMARY:ELECTION HUSTINGS: HORNSEY & WOOD GREEN Parkside Malvern Resid
 ents Association
DESCRIPTION:Meet the prospective Parliamentary constituency candidates
  from the main parties, as we invite them to tell us about themselves,
  their priorities and how they will work with us to protect and improv
 e our area.\nLocal matters have never been so important, we need to us
 e our votes to choose the best candidate to represent us.\n\nWomen's E
 quality Party Nimco Ali\nWorkers Revolutionary Party Anna Athow\nLiber
 al Democrat Dawn Barnes\nGreen Party Sam Hall\nConservative Emma Lane\
 nUKIP Ruth Price\nChristian Peoples Alliance Helen Spiby-Vann\nLabour 
 Catherine West\n\nAt this point, as huge developments are proposed all
  around us, how will the candidates help find the balance between crea
 ting a new community with affordable homes, respect our communities, c
 reate open space and protect the environment, and grow Wood Green with
 out destroying its heart?\nSend your questions to www.PMRA.co.uk or br
 ing them to the meeting.\n8 pm, Wednesday, 31st May, 2017 Grace Baptis
 t Church Hall, Park Ridings, N8\n\nFor more information visit https://
 bowesandbounds.org/events/election-hustings-hornsey-wood-green-parksid
 e-malvern-residents-a
DTSTART;TZID=Europe/London:20170531T200000
DTEND;TZID=Europe/London:20170531T223000
CATEGORIES:election, hustings
LOCATION:Grace Baptist Church Hall
WEBSITE:https://www.pmra.co.uk/2017/05/10/general-election-hustings-20
 17/
URL:https://www.pmra.co.uk/2017/05/10/general-election-hustings-2017/
CONTACT:
ORGANIZER:Parkside Malvern Residents Association
ATTACH;FMTTYPE="image/jpeg":http://storage.ning.com/topology/rest/1.0/
 file/get/2287318824?profile=original
ATTENDEE;ROLE=REQ-PARTICIPANT;PARTSTAT=ACCEPTED;RSVP=TRUE;CN="Richard 
 McKeever":https://bowesandbounds.org/profile/3hwxkqhdde8gc
END:VEVENT
END:VCALENDAR
