BEGIN:VCALENDAR
PRODID:NingEventWidget-v1
VERSION:2.0
METHOD:PUBLISH
BEGIN:VTIMEZONE
TZID:Europe/London
X-LIC-LOCATION:Europe/London
BEGIN:DAYLIGHT
TZOFFSETFROM:+0000
TZOFFSETTO:+0100
TZNAME:BST
DTSTART:19700329T010000
RRULE:FREQ=YEARLY;BYMONTH=3;BYDAY=-1SU
END:DAYLIGHT
BEGIN:STANDARD
TZOFFSETFROM:+0100
TZOFFSETTO:+0000
TZNAME:GMT
DTSTART:19701025T020000
RRULE:FREQ=YEARLY;BYMONTH=10;BYDAY=-1SU
END:STANDARD
END:VTIMEZONE
BEGIN:VEVENT
UID:6278630:Event:40063
DTSTAMP:20260422T011300Z
SUMMARY:Electric Blues at the Salisbury Hotel
DESCRIPTION:Blue Heat 550\nCome and let your backbone slip with the mi
 ghty Blue Heat 550 - starting in the back room of the Salisbury from 2
 2.00.\nA local Harringay band (3 of our members live 5 minutes walk fr
 om the pub) so you'll be supporting a homegrown creative enterprise...
  :-)\n\nFor more information visit https://bowesandbounds.org/events/e
 lectric-blues-at-the-salisbury-hotel
DTSTART;TZID=Europe/London:20120518T220000
DTEND;TZID=Europe/London:20120519T123000
CATEGORIES:music
LOCATION:Sailsbury Hotel
WEBSITE:http://www.myspace.com/blueheat550music
URL:http://www.myspace.com/blueheat550music
CONTACT:
ORGANIZER;CN=Administrator:https://bowesandbounds.org/profile/Administ
 rator
ATTACH;FMTTYPE="image/jpeg":http://storage.ning.com/topology/rest/1.0/
 file/get/2287232940?profile=original
ATTENDEE;ROLE=REQ-PARTICIPANT;PARTSTAT=ACCEPTED;RSVP=TRUE;CN=Administr
 ator:https://bowesandbounds.org/profile/Administrator
END:VEVENT
END:VCALENDAR
