BEGIN:VCALENDAR
PRODID:NingEventWidget-v1
VERSION:2.0
METHOD:PUBLISH
BEGIN:VTIMEZONE
TZID:Europe/London
X-LIC-LOCATION:Europe/London
BEGIN:DAYLIGHT
TZOFFSETFROM:+0000
TZOFFSETTO:+0100
TZNAME:BST
DTSTART:19700329T010000
RRULE:FREQ=YEARLY;BYMONTH=3;BYDAY=-1SU
END:DAYLIGHT
BEGIN:STANDARD
TZOFFSETFROM:+0100
TZOFFSETTO:+0000
TZNAME:GMT
DTSTART:19701025T020000
RRULE:FREQ=YEARLY;BYMONTH=10;BYDAY=-1SU
END:STANDARD
END:VTIMEZONE
BEGIN:VEVENT
UID:6278630:Event:58778
DTSTAMP:20260424T212145Z
SUMMARY:Elizabeth's Open Garden
DESCRIPTION:Beautiful Garden open to public with locally grown plants 
 for sale and homemade refreshments.  The garden is open in support of
  the conservatory in Broomfield Park.\n\nFor more information visit ht
 tps://bowesandbounds.org/events/elizabeth-s-open-garden-1
DTSTART;TZID=Europe/London:20130512T140000
DTEND;TZID=Europe/London:20130512T170000
CATEGORIES:fundraiser
LOCATION:Arnos Park Lodge
WEBSITE:http://www.friendsofbroomfieldpark.org
URL:http://www.friendsofbroomfieldpark.org
CONTACT:
ORGANIZER;CN="Geraldine Anwar":https://bowesandbounds.org/profile/Gera
 ldineAnwar
ATTACH;FMTTYPE="image/jpeg":http://storage.ning.com/topology/rest/1.0/
 file/get/2287232505?profile=original
ATTENDEE;ROLE=REQ-PARTICIPANT;PARTSTAT=ACCEPTED;RSVP=TRUE;CN="Geraldin
 e Anwar":https://bowesandbounds.org/profile/GeraldineAnwar
END:VEVENT
END:VCALENDAR
